BEGIN:VCALENDAR
VERSION:2.0
PRODID:-//Mansfield Nordic Club - ECPv6.15.13//NONSGML v1.0//EN
CALSCALE:GREGORIAN
METHOD:PUBLISH
X-ORIGINAL-URL:https://www.mansfieldnordic.org
X-WR-CALDESC:Events for Mansfield Nordic Club
REFRESH-INTERVAL;VALUE=DURATION:PT1H
X-Robots-Tag:noindex
X-PUBLISHED-TTL:PT1H
BEGIN:VTIMEZONE
TZID:America/New_York
BEGIN:DAYLIGHT
TZOFFSETFROM:-0500
TZOFFSETTO:-0400
TZNAME:EDT
DTSTART:20230312T070000
END:DAYLIGHT
BEGIN:STANDARD
TZOFFSETFROM:-0400
TZOFFSETTO:-0500
TZNAME:EST
DTSTART:20231105T060000
END:STANDARD
BEGIN:DAYLIGHT
TZOFFSETFROM:-0500
TZOFFSETTO:-0400
TZNAME:EDT
DTSTART:20240310T070000
END:DAYLIGHT
BEGIN:STANDARD
TZOFFSETFROM:-0400
TZOFFSETTO:-0500
TZNAME:EST
DTSTART:20241103T060000
END:STANDARD
BEGIN:DAYLIGHT
TZOFFSETFROM:-0500
TZOFFSETTO:-0400
TZNAME:EDT
DTSTART:20250309T070000
END:DAYLIGHT
BEGIN:STANDARD
TZOFFSETFROM:-0400
TZOFFSETTO:-0500
TZNAME:EST
DTSTART:20251102T060000
END:STANDARD
END:VTIMEZONE
BEGIN:VEVENT
DTSTART;TZID=America/New_York:20240715T170000
DTEND;TZID=America/New_York:20240715T190000
DTSTAMP:20260425T165553
CREATED:20240701T222222Z
LAST-MODIFIED:20240702T022249Z
UID:19472-1721062800-1721070000@www.mansfieldnordic.org
SUMMARY:MNCC Open House!
DESCRIPTION:Join us at the brand new Mansfield Nordic Community Center in Richmond for a grand opening/open house! \nThis is your chance to check out the space\, see your ski friends\, talk with coaches\, enjoy some snacks\, and learn about what opportunities the MNCC will bring. \nWho  \nMansfield Nordic Club! This event is hosted by our coaches 🙂 \nWhat \nTouring the space\, seeing friends and coaches\, learning about events and classes \nWhere \nThe MNCC is located on Route 2 in Jonesville (Richmond) near the intersection of Stage Road and Cochran Rd. The address is 3214 East Main St. Look for a big\, blue building on the south side of the road. The MNC flag will be flying! See parking notes below. \n \nWhen \nMonday\, July 15th from 5-7PM. There are no set times for age groups\, but we encourage the following: \nBKL skiers and families: 5-6pm \nJuniors and families: 5:30-6:30pm \nMasters and families: 6-7pm \nHow (to park) \nThere is only parking for two (2) cars at the space itself currently. We encourage carpooling and parking at the gravel lot at the end of Cochran Rd and walking over\, or even biking from one of the parking areas on Cochran Road itself. We have a brand new bike rack right outside the door! \n \n  \n 
URL:https://www.mansfieldnordic.org/event/mncc-open-house/
LOCATION:Mansfield Nordic Community Center\, 3214 East Main St\, Richmond\, VT\, 05477\, United States
CATEGORIES:BKL,Calendar,Juniors,Masters
END:VEVENT
END:VCALENDAR