BEGIN:VCALENDAR
VERSION:2.0
PRODID:-//Mansfield Nordic Club - ECPv6.15.13//NONSGML v1.0//EN
CALSCALE:GREGORIAN
METHOD:PUBLISH
X-WR-CALNAME:Mansfield Nordic Club
X-ORIGINAL-URL:https://www.mansfieldnordic.org
X-WR-CALDESC:Events for Mansfield Nordic Club
REFRESH-INTERVAL;VALUE=DURATION:PT1H
X-Robots-Tag:noindex
X-PUBLISHED-TTL:PT1H
BEGIN:VTIMEZONE
TZID:America/New_York
BEGIN:DAYLIGHT
TZOFFSETFROM:-0500
TZOFFSETTO:-0400
TZNAME:EDT
DTSTART:20190310T070000
END:DAYLIGHT
BEGIN:STANDARD
TZOFFSETFROM:-0400
TZOFFSETTO:-0500
TZNAME:EST
DTSTART:20191103T060000
END:STANDARD
BEGIN:DAYLIGHT
TZOFFSETFROM:-0500
TZOFFSETTO:-0400
TZNAME:EDT
DTSTART:20200308T070000
END:DAYLIGHT
BEGIN:STANDARD
TZOFFSETFROM:-0400
TZOFFSETTO:-0500
TZNAME:EST
DTSTART:20201101T060000
END:STANDARD
BEGIN:DAYLIGHT
TZOFFSETFROM:-0500
TZOFFSETTO:-0400
TZNAME:EDT
DTSTART:20210314T070000
END:DAYLIGHT
BEGIN:STANDARD
TZOFFSETFROM:-0400
TZOFFSETTO:-0500
TZNAME:EST
DTSTART:20211107T060000
END:STANDARD
BEGIN:DAYLIGHT
TZOFFSETFROM:-0500
TZOFFSETTO:-0400
TZNAME:EDT
DTSTART:20220313T070000
END:DAYLIGHT
BEGIN:STANDARD
TZOFFSETFROM:-0400
TZOFFSETTO:-0500
TZNAME:EST
DTSTART:20221106T060000
END:STANDARD
END:VTIMEZONE
BEGIN:VEVENT
DTSTART;TZID=America/New_York:20210221T133000
DTEND;TZID=America/New_York:20210221T153000
DTSTAMP:20260425T200733
CREATED:20210215T225142Z
LAST-MODIFIED:20210218T025225Z
UID:15398-1613914200-1613921400@www.mansfieldnordic.org
SUMMARY:BKL Craftsbury Skate Race
DESCRIPTION:Crafts bury will hold a BKL Skate race on Sunday afternoon beginning at 1:30pm. Similar deal to last time’s classic race with online pre-registration\, health screens\, and self-serve bib pick-up. \nIf you are coming\, Let me know by signing up HERE. \nHot Wax Recommendation: Toko Blue\, CH 6 or 5 or an equivalent cold wax. \nMore Info & Registration links from the Craftsbury Coaches: \nYou can find more information about Sunday’s BKL race here. We’ll post course maps when we’ve gotten around to making them\, but everything will be in Murphy’s Field and we’ll be incorporating some of the twisty\, bumpy sections that Keith made recently. If you know already that you want to race\, it’s helpful for our planning purposes if you register sooner rather than later. It’s very easy to take you off the start list if you decide you don’t want to join in\, but it’s impossible to add people at the last minute with all the COVID health screen rules.\n\nParents: please (1) pay attention to the spectating rules (not allowed—you’re only allowed to get the younger ones off and rolling) and (2) remember to schedule your own trail use for that day. We reeeaaalllly don’t like telling parents to stop watching their kids race\, but we don’t have a choice at the moment\, so please help us out and make yourselves scarce. If you need to accompany your child to the start\, you’ll need to ski or snowshoe out there or take a quick walk down the road to get there—all of this will be clear once we pull together some maps.\n\nAlso: our local stores have noted that they’ve been getting crowded recently on weekends. We love that folks are patronizing these businesses and hope you continue to do so\, but please remember to be safe about it: only one person per party going inside if at all possible\, and calling ahead for pickup helps a lot too.\n\nThanks and hope to see a bunch of you Sunday!  \n\n\n– the Craftsbury coaches
URL:https://www.mansfieldnordic.org/event/bkl-craftsbury-skate-race/
LOCATION:Craftsbury Outdoor Center\, 555 Lost Nation Rd\, Craftsbury Common\, VT\, 05827\, United States
CATEGORIES:BKL
END:VEVENT
BEGIN:VEVENT
DTSTART;TZID=America/New_York:20210105T193000
DTEND;TZID=America/New_York:20210105T203000
DTSTAMP:20260425T200733
CREATED:20201228T180801Z
LAST-MODIFIED:20210106T002347Z
UID:15181-1609875000-1609878600@www.mansfieldnordic.org
SUMMARY:BKL Parent Zoom Meeting
DESCRIPTION:Meeting will be recorded.  Zoom invite and info is below. For questions or if you are having trouble w/ meeting invite\, email Coach Rosemary: sheacobb19@gmail.com \nJoin Zoom Meeting\nhttps://us02web.zoom.us/j/83008701731?pwd=Sjl5TWh6YnVHUkNlZFE2c0dHTk0xdz09 \nMeeting ID: 830 0870 1731\nPasscode: 646035\nOne tap mobile\n+13126266799\,\,83008701731#\,\,\,\,*646035# US (Chicago)\n+19292056099\,\,83008701731#\,\,\,\,*646035# US (New York) \nDial by your location\n+1 312 626 6799 US (Chicago)\n+1 929 205 6099 US (New York)\n+1 301 715 8592 US (Washington D.C)\n+1 346 248 7799 US (Houston)\n+1 669 900 6833 US (San Jose)\n+1 253 215 8782 US (Tacoma)\nMeeting ID: 830 0870 1731\nPasscode: 646035\nFind your local number: https://us02web.zoom.us/u/kbrHEPQY5
URL:https://www.mansfieldnordic.org/event/bkl-parent-zoom-meeting/
CATEGORIES:BKL,Calendar
END:VEVENT
BEGIN:VEVENT
DTSTART;VALUE=DATE:20201201
DTEND;VALUE=DATE:20210102
DTSTAMP:20260425T200733
CREATED:20201129T141947Z
LAST-MODIFIED:20201129T141947Z
UID:15037-1606780800-1609545599@www.mansfieldnordic.org
SUMMARY:NENSA Club KM Challenge
DESCRIPTION:NENSA has unveiled the December Club Kilometer Challenge! \nThis is a great opportunity for our club members to: \n\nGet in lots of skiing and rollerskiing\nEarn points toward the NENSA Club Cup…we are the DEFENDING CHAMPIONS!\nWin $5000 for MNC…whoa! That is huge!\n\nWhat do you need to do? \nIt’s simple! We have tried to make it as user-friendly and easy as possible to submit your data…no hassles with sending Strava files\, no headaches with various logins and passwords…just click the link below and submit your kilometers skied. \nYou can do this daily (right after a ski) or at the end of a week (just list the various locations you skied and add up the total kilometers). The form is designed to be simple and smartphone-friendly. It is also linked on the Junior and Masters training docs\, as well as the MNC homepage! \nClub KM Challenge Form\nHelp us win the challenge\, win the Club Cup (again!) and score some prize money for the club! Any ages count toward scoring\, and this is not about racing. Any ski counts!
URL:https://www.mansfieldnordic.org/event/nensa-club-km-challenge/
END:VEVENT
BEGIN:VEVENT
DTSTART;VALUE=DATE:20200716
DTEND;VALUE=DATE:20200720
DTSTAMP:20260425T200733
CREATED:20200319T143723Z
LAST-MODIFIED:20200319T143740Z
UID:14261-1594857600-1595203199@www.mansfieldnordic.org
SUMMARY:Mini Mountain Camp 2020
DESCRIPTION:For information on Mountain Camp and Mini Mountain Camp\, please see the webpage HERE. \nPlease see the Registration Page to sign up!
URL:https://www.mansfieldnordic.org/event/mini-mountain-camp-2020/
CATEGORIES:BKL,Calendar,Juniors
END:VEVENT
BEGIN:VEVENT
DTSTART;VALUE=DATE:20200708
DTEND;VALUE=DATE:20200713
DTSTAMP:20260425T200733
CREATED:20200319T143533Z
LAST-MODIFIED:20200319T143533Z
UID:14259-1594166400-1594598399@www.mansfieldnordic.org
SUMMARY:Mountain Camp 2020
DESCRIPTION:For information on Mountain Camp and Mini Mountain Camp\, please see the webpage HERE. \nPlease see the Registration Page to sign up!
URL:https://www.mansfieldnordic.org/event/mountain-camp-2020/
CATEGORIES:Juniors
END:VEVENT
BEGIN:VEVENT
DTSTART;VALUE=DATE:20200623
DTEND;VALUE=DATE:20200624
DTSTAMP:20260425T200733
CREATED:20200319T135038Z
LAST-MODIFIED:20200319T143938Z
UID:14256-1592870400-1592956799@www.mansfieldnordic.org
SUMMARY:Beginning of Junior Summer Training
DESCRIPTION:The beginning of MNC Junior Summer training! \nSee the Junior Training Doc (and bookmark it!) for all the daily session details \nSee the Junior Summer page for program information \nSee the Registration page to get signed up today! \nTop of the Kanc!
URL:https://www.mansfieldnordic.org/event/beginning-of-junior-summer-training/
CATEGORIES:BKL,Juniors
END:VEVENT
BEGIN:VEVENT
DTSTART;VALUE=DATE:20200516
DTEND;VALUE=DATE:20200517
DTSTAMP:20260425T200733
CREATED:20200319T134739Z
LAST-MODIFIED:20200411T191545Z
UID:14254-1589587200-1589673599@www.mansfieldnordic.org
SUMMARY:Start of Junior Spring Training
DESCRIPTION:The beginning of MNC Junior Spring training! \nSee the Junior Training Doc (and bookmark it!) for all the daily session details \nSee the Junior Spring page for program information \nSee the Registration page to get signed up today!
URL:https://www.mansfieldnordic.org/event/start-of-junior-spring-training/
CATEGORIES:Juniors
END:VEVENT
BEGIN:VEVENT
DTSTART;VALUE=DATE:20200501
DTEND;VALUE=DATE:20200502
DTSTAMP:20260425T200733
CREATED:20200409T134656Z
LAST-MODIFIED:20200425T122600Z
UID:14304-1588291200-1588377599@www.mansfieldnordic.org
SUMMARY:Quarantine Uphill Challenge (May 1-3)
DESCRIPTION:Now a NENSA event! \nWith the running season starting in earnest for many of us\, it’s time to collectively rally toward a goal. We may not be able to gather in person\, but Virtual Races  \n \nhave become a way for athletes to stick to some familiar territory (the competitive side) regardless of the social distance between them.  \nFor the ultimate in socially-distant masochism\, look no further than the recently-completed Quarantine Backyard Ultra\, won by Mike Wardian after running 262.5 miles worth of 4-mile loops in his neighborhood. \nOur new challenge for Spring 2020 is not quite as epic in terms of length…but you WILL notice that the quarantine ultramarathon race came down to 2 competitors\, one on a treadmill and the other (Wardian) running on a flat loop in Arlington\, VA. What’s lacking here? That’s right\, some UPHILL! \nOur MNC training year often starts off with a grueling workout: the Bolton Uphill Run Test. We use this test to gauge fitness several times in the year…often once in the spring\, twice in the summer\, and once or twice in the fall. It’s not unheard of for the first test of the year (May) to involve scrambling over some un-melted snow\, just as we’re equally likely to have snow falling on our heads during the final test of the year in October or November. We keep a long-running archive of tests to track fitness. \nIn this time of COVID-19\, we are putting the challenge out there for New England skiers to run their own uphill test to kick-off May. Much like NENSA’s Club Cup and Zak Cup\, this is a challenge for everyone! You’ll find the rules to be quite forgiving when it comes to the “uphill” requirements. Read more below: \nWhat: MNC Quarantine Uphill Run Challenge  \nWhen: May 1st\, 2nd\, or 3rd (Fri/Sat/Sun) \nRules: Run your own uphill test\, on foot\, as fast as you can. The requirements for this test?  \n-Race must finish higher than it started: a net elevation gain. No minimum or maximum on the elevation gained…it can even finish just going up your driveway if that’s higher than the surrounding road! \n-Race has to be on foot…no faster means of transportation like a bike\, or even rollerskis..!  \n-Race cannot take place on closed trail systems such as the Long Trail or local MTB networks. Please respect the closures from our trail stewards\, and focus on roads (paved or dirt).  \n-Use the form below to submit your race data\, including (optional) Strava or other fitness-tracker details as well as photos. We will have awards for all sorts of catagories including most elevation gained\, fastest 2-mile course\, most creative route\, and best race photo (can be staged).   \nResults Submission Form \nSubmissions due by Monday\, May 4th. Time to start planning your ultimate uphill test! \n \n 
URL:https://www.mansfieldnordic.org/event/quarantine-uphill-challenge-may-1-3/
CATEGORIES:BKL,Calendar,Juniors,Masters
END:VEVENT
BEGIN:VEVENT
DTSTART;TZID=America/New_York:20200322T090000
DTEND;TZID=America/New_York:20200322T140000
DTSTAMP:20260425T200733
CREATED:20200127T205355Z
LAST-MODIFIED:20200315T140734Z
UID:13876-1584867600-1584885600@www.mansfieldnordic.org
SUMMARY:4th Annual New England Club Relay Championships - Canceled
DESCRIPTION:NE Club Relay Championships 2020\nCanceled \nIf you registered a team will be in contact to process a refund. \nA Festive End of Season Team Event\nPresented by Mansfield Nordic Club\n \nOn March 22\, 2020\, 200 skiers comprised of 50 relay teams ranging in age from 10 to 70\, will toe the starting line at the Craftsbury Outdoor Center\, Craftsbury Common\, Vermont.  This fun filled Nordic relay event is open to skiers of all abilities and all proceeds go to the Mansfield Nordic Club. There are multiple prize categories within the three age divisions of over 200 years of age\,  under 200 years of age and BKL. The winners in each category can claim bragging rights along with some fun Vermont themed prizes.  \nIf you can ski 5K you can participate. The event is open to any New England nordic ski club member – participate as mixed age team with 2 men and 2 women\, 4 women or 4 men.  The goal is for each club to field as many teams as possible utilizing as many club members as possible in the makeup of their team.  \nThis fun event happens at Craftsbury but is a Mansfield Nordic race and is a fundraiser to help young aspiring nordic ski racers. Thanks to our volunteers we could not do this event without you and our sponsors Green Lantern Solar\, Toko\, Rossi and Ski Rack. \nRegistration:\n\n$140 per team online or $160 per team on race day. BKL skiers can register for $60 per team online or $80 per team day of race. Online registration closes on Thursday\, March 19 at 11:59pm. Day of race registration and bib pickup will be from 9:30-10:30am. \n\nRegister at:  https://www.skireg.com/mncrelay \n  \nPrizes awarded to first place teams from our Sponsors
URL:https://www.mansfieldnordic.org/event/4th-annual-new-england-club-relay-championships/
LOCATION:Craftsbury Outdoor Center\, 555 Lost Nation Rd\, Craftsbury Common\, VT\, 05827\, United States
CATEGORIES:BKL,Calendar,Juniors,Masters
END:VEVENT
BEGIN:VEVENT
DTSTART;TZID=America/New_York:20200317T154500
DTEND;TZID=America/New_York:20200317T172500
DTSTAMP:20260425T200733
CREATED:20200220T181247Z
LAST-MODIFIED:20200313T182858Z
UID:14086-1584459900-1584465900@www.mansfieldnordic.org
SUMMARY:UVM Fun Day-CANCELLED!
DESCRIPTION:The UVM Team is not going to be back on campus for a while.  We’ll try again next year.
URL:https://www.mansfieldnordic.org/event/uvm-fun-day-2/
CATEGORIES:BKL,Calendar
END:VEVENT
BEGIN:VEVENT
DTSTART;TZID=America/New_York:20200312T154500
DTEND;TZID=America/New_York:20200312T171500
DTSTAMP:20260425T200733
CREATED:20200220T181115Z
LAST-MODIFIED:20200220T181315Z
UID:14084-1584027900-1584033300@www.mansfieldnordic.org
SUMMARY:BKL Awards Day
DESCRIPTION:This is our awards day and last regular BKL practice! Games\, fun\, awards and a little party at the end!
URL:https://www.mansfieldnordic.org/event/bkl-awards-day/
CATEGORIES:BKL,Calendar
END:VEVENT
BEGIN:VEVENT
DTSTART;TZID=America/New_York:20200227T034500
DTEND;TZID=America/New_York:20200227T171500
DTSTAMP:20260425T200733
CREATED:20200220T180456Z
LAST-MODIFIED:20200220T181324Z
UID:14079-1582775100-1582823700@www.mansfieldnordic.org
SUMMARY:Vacation- No BKL Practice
DESCRIPTION:
URL:https://www.mansfieldnordic.org/event/vacation-no-bkl-practice-2/
CATEGORIES:BKL,Calendar
END:VEVENT
BEGIN:VEVENT
DTSTART;TZID=America/New_York:20200226T080000
DTEND;TZID=America/New_York:20200226T170000
DTSTAMP:20260425T200733
CREATED:20200127T215108Z
LAST-MODIFIED:20200127T215121Z
UID:13902-1582704000-1582736400@www.mansfieldnordic.org
SUMMARY:Sleepy Hollow Wednesday Night Worlds #9
DESCRIPTION:2K\, 4K or 6K your choice of distance and technique! \nBring a potluck meal for after race.
URL:https://www.mansfieldnordic.org/event/sleepy-hollow-wednesday-night-worlds-9/
LOCATION:Sleepy Hollow Inn & Ski Center\, 427 Ski Lodge Dr\, Huntington\, VT\, 05462\, United States
END:VEVENT
BEGIN:VEVENT
DTSTART;VALUE=DATE:20200226
DTEND;VALUE=DATE:20200227
DTSTAMP:20260425T200733
CREATED:20200220T180127Z
LAST-MODIFIED:20200220T181333Z
UID:14075-1582675200-1582761599@www.mansfieldnordic.org
SUMMARY:BKL Craftsbury Day
DESCRIPTION:10:00 AM Craftsbury Outdoor Center- great trails\, great grooming and so much fun to ski there! \nBring both skate & Classic equipment and Bring Lunch (a water belt is also a good idea). \nWe will start off classic- Meet Rosemary at 10 AM with skis in the wax room. We will go for a long classic ski.  After lunch\, we’ll switch to skate skis and play some games and do some obstacle courses and possibly relays. We will pack up be headed home around 2 pm. \nIF YOU NEED A RIDE:  Email Coach Rosemary: sheacobb19@gmail.com. I can meet you in Jericho\, or hook you up with someone coming from your area. If there are enough kids needing a ride\, we might be able to take the MNC van.
URL:https://www.mansfieldnordic.org/event/bkl-craftsbury-day-3/
LOCATION:Craftsbury Outdoor Center\, 555 Lost Nation Rd\, Craftsbury Common\, VT\, 05827\, United States
CATEGORIES:BKL,Calendar
END:VEVENT
BEGIN:VEVENT
DTSTART;TZID=America/New_York:20200224T034500
DTEND;TZID=America/New_York:20200224T171500
DTSTAMP:20260425T200733
CREATED:20200220T180349Z
LAST-MODIFIED:20200220T181342Z
UID:14077-1582515900-1582564500@www.mansfieldnordic.org
SUMMARY:Vacation- No BKL Practice
DESCRIPTION:
URL:https://www.mansfieldnordic.org/event/vacation-no-bkl-practice/
CATEGORIES:BKL,Calendar
END:VEVENT
BEGIN:VEVENT
DTSTART;TZID=America/New_York:20200223T080000
DTEND;TZID=America/New_York:20200223T170000
DTSTAMP:20260425T200733
CREATED:20200218T020409Z
LAST-MODIFIED:20200218T020559Z
UID:14062-1582444800-1582477200@www.mansfieldnordic.org
SUMMARY:Stowe Derby
DESCRIPTION:20K Classic or skate wave start \nor short course 6K\, either technique
URL:https://www.mansfieldnordic.org/event/stowe-derby-5/
LOCATION:Stowe High School\, VT\, United States
CATEGORIES:Calendar,Masters
END:VEVENT
BEGIN:VEVENT
DTSTART;TZID=America/New_York:20200222T093000
DTEND;TZID=America/New_York:20200222T170000
DTSTAMP:20260425T200733
CREATED:20200127T211048Z
LAST-MODIFIED:20200212T185410Z
UID:13886-1582363800-1582390800@www.mansfieldnordic.org
SUMMARY:MNC Nordic Skiathlon
DESCRIPTION:Bring the entire family to this MNC signature event.   Racing is available for all age groups at a new the local venue this season and the addition of an adult 5k “try it” race. \nLocation this Season:  Sleepy Hollow 427 Ski Lodge Dr. Huntington\, VT\nRegistration: https://www.skireg.com/mncskiathlon\nRace Format \n\n\n\n\n\nClassic/Freestyle Skiathlon: Skiers switch from classic to freestyle skis mid-race. \n** New** single technique 5K “try it” option for those adults new to racing.  Racers can choose technique and do 5k of racing on the Skate portion of course ahead of the main field. \n\n\nSchedule of Events\nMen and Women U16 and older \n9:30-10:30am     Registration\n10:45am              5 km “Try It” Freestyle Race (choice of technique on skate loop)\n11:00am              Men’s  7 km classic + 7km freestyles\n11:15am              Women’s  7 km classic + 7km freestyles\n12:30pm             Age-Class Podiums \nCustom mugs to top three finishers in each full skiathlon age class! \nBKL\n10:30- 12:30am BKL Registration Opens (Round Barn)\n1:00pm                Lollipop 0.5k\n1:15pm                Grades 1/2 1k CL only\n1:45pm                Grades 3/4 1k CL + 1k FS\n2:15pm                Grades 5/6 1.5k CL + 1.5k FS\n2:45pm               Grades 7/8 2k CL + 2k FS\n3:15pm                BKL Ribbons for all skiers (Round Barn)\n3:30– Snacks and Raffle! \nPlease Note:  Sleepy Hollow is a non fluorocarbon wax venue.  Paraffins only. \nSkiathlon Flyer \n\n\n\n\n\n\n\n\n\n\n 
URL:https://www.mansfieldnordic.org/event/mnc-nordic-skiathlon/
LOCATION:Sleepy Hollow Inn & Ski Center\, 427 Ski Lodge Dr\, Huntington\, VT\, 05462\, United States
CATEGORIES:BKL,Calendar,Juniors,Masters
END:VEVENT
BEGIN:VEVENT
DTSTART;TZID=America/New_York:20200220T080000
DTEND;TZID=America/New_York:20200220T170000
DTSTAMP:20260425T200733
CREATED:20200220T180906Z
LAST-MODIFIED:20200220T181349Z
UID:14082-1582185600-1582218000@www.mansfieldnordic.org
SUMMARY:New England BKL Festival
DESCRIPTION:The most fun ski weekend for kids ever!! \nFestival Website & Registration:  https://greatglentrails.com/bklregistration \nEmail Coach Rosemary if you want to go but haven’t signed up yet: sheacobb19@gmail.com
URL:https://www.mansfieldnordic.org/event/new-england-bkl-festival-2/
CATEGORIES:BKL,Calendar
END:VEVENT
BEGIN:VEVENT
DTSTART;TZID=America/New_York:20200219T080000
DTEND;TZID=America/New_York:20200219T170000
DTSTAMP:20260425T200733
CREATED:20200127T215026Z
LAST-MODIFIED:20200127T215026Z
UID:13900-1582099200-1582131600@www.mansfieldnordic.org
SUMMARY:Sleepy Hollow Wednesday Night Worlds #8
DESCRIPTION:2K\, 4K or 6K your choice of distance and technique! \nBring a potluck meal for after race.
URL:https://www.mansfieldnordic.org/event/sleepy-hollow-wednesday-night-worlds-8/
LOCATION:Sleepy Hollow Inn & Ski Center\, 427 Ski Lodge Dr\, Huntington\, VT\, 05462\, United States
END:VEVENT
BEGIN:VEVENT
DTSTART;VALUE=DATE:20200215
DTEND;VALUE=DATE:20200217
DTSTAMP:20260425T200733
CREATED:20191120T134640Z
LAST-MODIFIED:20191120T134656Z
UID:13454-1581724800-1581897599@www.mansfieldnordic.org
SUMMARY:Eastern Cup #4: Dublin/Holderness
DESCRIPTION:EVENT PAGE and RACE REGISTRATION
URL:https://www.mansfieldnordic.org/event/eastern-cup-4-dublin-holderness/
CATEGORIES:Calendar,Juniors
END:VEVENT
BEGIN:VEVENT
DTSTART;TZID=America/New_York:20200212T080000
DTEND;TZID=America/New_York:20200212T170000
DTSTAMP:20260425T200733
CREATED:20200127T214934Z
LAST-MODIFIED:20200127T214934Z
UID:13898-1581494400-1581526800@www.mansfieldnordic.org
SUMMARY:Sleepy Hollow Wednesday Night Worlds #7
DESCRIPTION:2K\, 4K or 6K your choice of distance and technique! \nBring a potluck meal for after race.
URL:https://www.mansfieldnordic.org/event/sleepy-hollow-wednesday-night-worlds-7/
LOCATION:Sleepy Hollow Inn & Ski Center\, 427 Ski Lodge Dr\, Huntington\, VT\, 05462\, United States
END:VEVENT
BEGIN:VEVENT
DTSTART;TZID=America/New_York:20200209T090000
DTEND;TZID=America/New_York:20200209T120000
DTSTAMP:20260425T200733
CREATED:20200203T013022Z
LAST-MODIFIED:20200203T013144Z
UID:13932-1581238800-1581249600@www.mansfieldnordic.org
SUMMARY:Woodstock Runners BKL Sweetheart Freestyle Race
DESCRIPTION:Lollipop starts at 10 am with age group mass starts to Follow. \nInfo & Registration:  SKIREG \nCitizens Races to follow in the afternoon!
URL:https://www.mansfieldnordic.org/event/woodstock-runners-bkl-sweetheart-freestyle-race/
LOCATION:Woodstock Touring Center
CATEGORIES:BKL,Calendar
END:VEVENT
BEGIN:VEVENT
DTSTART;TZID=America/New_York:20200209T080000
DTEND;TZID=America/New_York:20200209T170000
DTSTAMP:20260425T200733
CREATED:20200127T215610Z
LAST-MODIFIED:20200127T215610Z
UID:13907-1581235200-1581267600@www.mansfieldnordic.org
SUMMARY:Woodstock Sweetheart Race  10K and 15K freestyle AND 5K "TRY IT" race
DESCRIPTION:
URL:https://www.mansfieldnordic.org/event/woodstock-sweetheart-race-10k-and-15k-freestyle-and-5k-try-it-race/
LOCATION:Woodstock Touring Center
END:VEVENT
BEGIN:VEVENT
DTSTART;TZID=America/New_York:20200208T080000
DTEND;TZID=America/New_York:20200208T170000
DTSTAMP:20260425T200733
CREATED:20200127T215306Z
LAST-MODIFIED:20200127T215306Z
UID:13905-1581148800-1581181200@www.mansfieldnordic.org
SUMMARY:Flying Moose Classic 20K and 10K
DESCRIPTION:
URL:https://www.mansfieldnordic.org/event/flying-moose-classic-20k-and-10k/
LOCATION:Bethel Village Trails\, Bethel\, ME\, United States
END:VEVENT
BEGIN:VEVENT
DTSTART;VALUE=DATE:20200208
DTEND;VALUE=DATE:20200210
DTSTAMP:20260425T200733
CREATED:20191120T134502Z
LAST-MODIFIED:20191120T134817Z
UID:13452-1581120000-1581292799@www.mansfieldnordic.org
SUMMARY:Eastern Cup #3: Rumford
DESCRIPTION:EVENT PAGE and RACE REGISTRATION
URL:https://www.mansfieldnordic.org/event/eastern-cup-3-rumford/
CATEGORIES:Calendar,Juniors
END:VEVENT
BEGIN:VEVENT
DTSTART;TZID=America/New_York:20200205T080000
DTEND;TZID=America/New_York:20200205T170000
DTSTAMP:20260425T200733
CREATED:20200127T214754Z
LAST-MODIFIED:20200127T214833Z
UID:13895-1580889600-1580922000@www.mansfieldnordic.org
SUMMARY:Sleepy Hollow's Wednesday Night Worlds #6
DESCRIPTION:Race starts at 6:30 PM  2K\, 4K or 6K your choice of distance and technique! \nBring a potluck meal for after race.
URL:https://www.mansfieldnordic.org/event/sleepy-hollows-wednesday-night-worlds/
LOCATION:Sleepy Hollow Inn & Ski Center\, 427 Ski Lodge Dr\, Huntington\, VT\, 05462\, United States
END:VEVENT
BEGIN:VEVENT
DTSTART;TZID=America/New_York:20200202T080000
DTEND;TZID=America/New_York:20200202T170000
DTSTAMP:20260425T200733
CREATED:20200107T003351Z
LAST-MODIFIED:20200107T003351Z
UID:13740-1580630400-1580662800@www.mansfieldnordic.org
SUMMARY:Craftsbury Marathon Freestyle
DESCRIPTION:33K or 16K
URL:https://www.mansfieldnordic.org/event/craftsbury-marathon-freestyle/
LOCATION:Craftsbury Outdoor Center\, 555 Lost Nation Rd\, Craftsbury Common\, VT\, 05827\, United States
END:VEVENT
BEGIN:VEVENT
DTSTART;TZID=America/New_York:20200201T080000
DTEND;TZID=America/New_York:20200201T170000
DTSTAMP:20260425T200733
CREATED:20200107T003203Z
LAST-MODIFIED:20200107T003203Z
UID:13738-1580544000-1580576400@www.mansfieldnordic.org
SUMMARY:Craftsbury Marathon Classic
DESCRIPTION:33K or 50K  mass start
URL:https://www.mansfieldnordic.org/event/craftsbury-marathon-classic/
LOCATION:Craftsbury Outdoor Center\, 555 Lost Nation Rd\, Craftsbury Common\, VT\, 05827\, United States
END:VEVENT
BEGIN:VEVENT
DTSTART;TZID=America/New_York:20200129T080000
DTEND;TZID=America/New_York:20200129T170000
DTSTAMP:20260425T200733
CREATED:20200107T002948Z
LAST-MODIFIED:20200107T003527Z
UID:13736-1580284800-1580317200@www.mansfieldnordic.org
SUMMARY:Sleepy Hollow Wednesday Night Worlds #5
DESCRIPTION:2K\, 4K or 6K your choice of distance and technique! \nBring a potluck meal for after race.
URL:https://www.mansfieldnordic.org/event/sleepy-hollow-wednesday-night-worlds-4/
LOCATION:Sleepy Hollow Inn & Ski Center\, 427 Ski Lodge Dr\, Huntington\, VT\, 05462\, United States
END:VEVENT
BEGIN:VEVENT
DTSTART;TZID=America/New_York:20200126T130000
DTEND;TZID=America/New_York:20200126T160000
DTSTAMP:20260425T200733
CREATED:20200120T005135Z
LAST-MODIFIED:20200120T205213Z
UID:13812-1580043600-1580054400@www.mansfieldnordic.org
SUMMARY:Craftsbury SuperBKL CLASSIC Race
DESCRIPTION:It’s a big weekend coming up in Craftsbury!  SuperTour! Eastern Cup!  UVM Carnival!  So much spectating and amazing skiing!\n\nAnd the highlight: the SuperBKL Classic on Sunday\, 1/26.  Note: this will now be a classic mass start (by age group) race.\n\nRegistration: at 11:30 AM in the Activity Center.  Please note: there will be NO REGISTRATION FEES for all age categories in this event.\n\nRacing begins at 1:00 PM with the 7th/8th grade group.\n\nCourses will be close to standard BKL distances.  Maps will be available for review at registration.\n(Grade 1/2- 1km\, Grade 3/4 2km\, Grade 5/6 3km\, Grade 7/8 4 km).\n\nResults will be order-of finish with no times for grades K-6.  There will be timed results for grades 7/8.\n\nWhile SuperTour races are not subject to the Craftsbury wax policy\, the SuperBKL Classic will follow the Center’s wax guidelines available for review here.\n2020SuperBKLClassicFlyer \n  \n 
URL:https://www.mansfieldnordic.org/event/craftsbury-freestyle-bkl-race/
LOCATION:Craftsbury Outdoor Center\, 555 Lost Nation Rd\, Craftsbury Common\, VT\, 05827\, United States
CATEGORIES:BKL,Calendar
END:VEVENT
END:VCALENDAR