BEGIN:VCALENDAR
VERSION:2.0
PRODID:-//Mansfield Nordic Club - ECPv6.15.13//NONSGML v1.0//EN
CALSCALE:GREGORIAN
METHOD:PUBLISH
X-WR-CALNAME:Mansfield Nordic Club
X-ORIGINAL-URL:https://www.mansfieldnordic.org
X-WR-CALDESC:Events for Mansfield Nordic Club
REFRESH-INTERVAL;VALUE=DURATION:PT1H
X-Robots-Tag:noindex
X-PUBLISHED-TTL:PT1H
BEGIN:VTIMEZONE
TZID:America/New_York
BEGIN:DAYLIGHT
TZOFFSETFROM:-0500
TZOFFSETTO:-0400
TZNAME:EDT
DTSTART:20220313T070000
END:DAYLIGHT
BEGIN:STANDARD
TZOFFSETFROM:-0400
TZOFFSETTO:-0500
TZNAME:EST
DTSTART:20221106T060000
END:STANDARD
BEGIN:DAYLIGHT
TZOFFSETFROM:-0500
TZOFFSETTO:-0400
TZNAME:EDT
DTSTART:20230312T070000
END:DAYLIGHT
BEGIN:STANDARD
TZOFFSETFROM:-0400
TZOFFSETTO:-0500
TZNAME:EST
DTSTART:20231105T060000
END:STANDARD
BEGIN:DAYLIGHT
TZOFFSETFROM:-0500
TZOFFSETTO:-0400
TZNAME:EDT
DTSTART:20240310T070000
END:DAYLIGHT
BEGIN:STANDARD
TZOFFSETFROM:-0400
TZOFFSETTO:-0500
TZNAME:EST
DTSTART:20241103T060000
END:STANDARD
BEGIN:DAYLIGHT
TZOFFSETFROM:-0500
TZOFFSETTO:-0400
TZNAME:EDT
DTSTART:20250309T070000
END:DAYLIGHT
BEGIN:STANDARD
TZOFFSETFROM:-0400
TZOFFSETTO:-0500
TZNAME:EST
DTSTART:20251102T060000
END:STANDARD
END:VTIMEZONE
BEGIN:VEVENT
DTSTART;TZID=America/New_York:20240704T093000
DTEND;TZID=America/New_York:20240704T120000
DTSTAMP:20260426T002633
CREATED:20240626T102111Z
LAST-MODIFIED:20240702T013054Z
UID:19468-1720085400-1720094400@www.mansfieldnordic.org
SUMMARY:Rollerski (or walk or bike!) in Williston 4th of July Parade!
DESCRIPTION:If you are a rollerskier of ANY AGE please join us in Williston on the 4th of July to rollerski in the parade! \nOh\, and if you don’t want to rollerski but still want to join in the fun…you can certainly walk or ride your bike with us as well! \nThis is a super fun event…why? \n\nWe get to show rollerskiing to the whole town\nWe see lots of fun other floats and celebratory groups\nMusic\, games\, friends\, and family\n\nBut most of all… \nWe get SNOW! That’s right\, early in the morning we secretly acquire some magical snow and distribute it to the parade-watchers from our rollerskis! It’s a big hit every year\, and a totally cool (literally) experience. \nThe route is about 1 mile and almost totally flat\, and we ski at about 1 mph. It’s great for everyone! \nThe logstics: \n\nMeet at 9:30 at the Johnson Farm on Rt 2 in Williston…this is the field just past the Korner Kwik Stop if you’re heading toward Richmond.\nWear a hi-viz MNC shirt if you can! We will have extras on-hand.\nBring your rollerskis\, bike for riding\, or shoes for walking\, and also gloves as the snow gets cold!\n\nWe can go for an actual rollerski in the neighborhoods after\, for those Juniors who join us and want to get in some training after-the-fact. \n \n \n \n 
URL:https://www.mansfieldnordic.org/event/rollerski-in-williston-4th-of-july-parade/
LOCATION:johnson farm
CATEGORIES:BKL,Calendar,Juniors,Masters
END:VEVENT
BEGIN:VEVENT
DTSTART;VALUE=DATE:20240625
DTEND;VALUE=DATE:20240901
DTSTAMP:20260426T002633
CREATED:20240411T143344Z
LAST-MODIFIED:20240411T143344Z
UID:19285-1719273600-1725148799@www.mansfieldnordic.org
SUMMARY:Junior Summer Training Begins
DESCRIPTION:Our Junior Summer training begins on Tuesday\, June 25th! Programming takes place from 8-10AM on weekday mornings\, and various weekend times. Monday is our off day. \nYou can learn more about Junior Summer Training on this page. \nYou can register for Junior Summer Training at this page.
URL:https://www.mansfieldnordic.org/event/junior-summer-training-begins/
LOCATION:The Range\, Jericho\, VT\, United States
CATEGORIES:Calendar,Juniors
END:VEVENT
BEGIN:VEVENT
DTSTART;VALUE=DATE:20240513
DTEND;VALUE=DATE:20240514
DTSTAMP:20260426T002633
CREATED:20240425T173513Z
LAST-MODIFIED:20240425T173513Z
UID:19315-1715558400-1715644799@www.mansfieldnordic.org
SUMMARY:Skirack/Swenor Rollerski Orders Due
DESCRIPTION:MNC members and skiers\, \nSkirack has put together some special pricing for us with rollerskis! You can order Swenor skis from Skirack at the link below\, with submissions due May 13th. \nNote the inclusion of some #2/#3 speed wheel options on the Fiberglass Classic model…if you have been rollerskiing for a few years now (say\, if this is going to be your second pair of classic rollerskis) this slightly-slower wheelspeed is recommended as it is much more relatable to actual classic skiing. Double poling is more realistic\, and striding work is more effective. \nThe Fiberglass model also comes in a standard #2 front and back speed\, and all other models are #2 speed. \nOn the order form\, you can check out specific notes on models and descriptions which I put together. You can also view those descriptions directly by clicking here. \nClick the link below to submit your form for ski ordering through Skirack! Orders are due May 13th. \nSkirack Swenor Order Form
URL:https://www.mansfieldnordic.org/event/skirack-swenor-rollerski-orders-due/
CATEGORIES:BKL,Calendar,Juniors,Masters
END:VEVENT
BEGIN:VEVENT
DTSTART;TZID=America/New_York:20240507T233000
DTEND;TZID=America/New_York:20240507T233000
DTSTAMP:20260426T002633
CREATED:20240411T224356Z
LAST-MODIFIED:20240411T224356Z
UID:19289-1715124600-1715124600@www.mansfieldnordic.org
SUMMARY:MNC Summer Apparel Order Closes
DESCRIPTION:MNC compression shorts now available for 2024! \nPodiumwear Summer Storefront \nMNC general summer apparel store also online! \nMNC General Shop\nORDER BY MAY 7TH!\nOur Podiumwear compression shorts are one our most popular items ever. Ideal for rollerskiing\, great for running\, and useful in all sorts of other athletic situations\, these shorts became a hit as more and more members started rocking them at training. \nThey typically run small so please note this in your order. For a reference point\, Coach Adam wears a Men’s Large. \nIt’s common for athletes to ask about these in the summer\, and wonder “where can I get them??” but please be advised: this is a Podiumwear Storefront order\, meaning the only pairs produced are those that are ordered through this storefront! \nThe storefront is set to close on May 7th in order for shorts to arrive by mid-June for the beginning of summer training. You can also order a high-quality MNC hoody from Podiumwear at this storefront! \n \n \n 
URL:https://www.mansfieldnordic.org/event/mnc-summer-apparel-order-closes/
CATEGORIES:BKL,Calendar,Juniors,Masters
END:VEVENT
BEGIN:VEVENT
DTSTART;TZID=America/New_York:20240507T160000
DTEND;TZID=America/New_York:20240507T180000
DTSTAMP:20260426T002633
CREATED:20240401T230705Z
LAST-MODIFIED:20240401T230705Z
UID:19246-1715097600-1715104800@www.mansfieldnordic.org
SUMMARY:Junior Spring Training begins
DESCRIPTION:Our Juniors kick off their official programming for the 2024/2025 season on Tuesday\, May 7th! You can sign up for spring programming at the MNC registration page\, and you can view spring program info on this primary page.
URL:https://www.mansfieldnordic.org/event/junior-spring-training-begins-2/
CATEGORIES:Juniors
END:VEVENT
BEGIN:VEVENT
DTSTART;TZID=America/New_York:20240407T103000
DTEND;TZID=America/New_York:20240407T140000
DTSTAMP:20260426T002633
CREATED:20240325T160549Z
LAST-MODIFIED:20240406T230357Z
UID:19187-1712485800-1712498400@www.mansfieldnordic.org
SUMMARY:End-Of-Season Event: Wax and Waffles
DESCRIPTION:Event Update: We’re setting up the party with food and waxing on the lower deck at Cochran’s. Dress warm\, bring rock skis or a sled for some fun on the ski hill. \nCraftsbury has closed-up for the season\, meaning our traditional end-of-season party needed to be called off. We’re sad to not have this fun event available to us\, but in its stead we have put together another opportunity to close-out the ’23/’24 season! \nWax n’ Waffles RSVP \nJoin us at Cochran’s on Sunday\, April 7th for “Waffles and Waxing” \nWe will have a group run option in the morning\, followed by a gathering in the baselodge. In a few different “waves” (though this is loose…if things are open\, people can just jump in) skiers and families can use a collection of MNC benches\, wax rollers\, irons\, cleaning tools\, scrapers\, and solvents to: \n\nClean kick zones\nApply summer storage wax\nClear off debris and gunk from sidewalls\nCheck bindings\, poles\, and skis for any broken parts\n\nThere will be waffles and hotdogs to enjoy inside or out\, slideshows and videos of the ski season\, and some talks from coaches. Lawn games outside if the weather is nice! \nNo fee for this event\, but we’ll have a donation box if you’d like to consider a contribution! Hope to see you there- \n-MNC Coaching Staff
URL:https://www.mansfieldnordic.org/event/end-of-season-event-wax-and-waffles/
LOCATION:cochrans
CATEGORIES:BKL,Calendar,Juniors,Masters
END:VEVENT
BEGIN:VEVENT
DTSTART;TZID=America/New_York:20240307T160000
DTEND;TZID=America/New_York:20240307T170000
DTSTAMP:20260426T002633
CREATED:20240212T195003Z
LAST-MODIFIED:20240304T194516Z
UID:18986-1709827200-1709830800@www.mansfieldnordic.org
SUMMARY:Last BKL Day and Awards for Jack Rabbits\, Arctic Foxes\, Racers + Devos
DESCRIPTION:More info on our end of season: https://www.mansfieldnordic.org/bkl-info-march-4-10/
URL:https://www.mansfieldnordic.org/event/tentative-last-day-and-awards-for-jack-rabbits-arctic-foxes-racers-devos/
CATEGORIES:BKL,Calendar
END:VEVENT
BEGIN:VEVENT
DTSTART;TZID=America/New_York:20240305T154500
DTEND;TZID=America/New_York:20240305T171500
DTSTAMP:20260426T002633
CREATED:20240212T194917Z
LAST-MODIFIED:20240304T195103Z
UID:18984-1709653500-1709658900@www.mansfieldnordic.org
SUMMARY:Last Penguins BKL Day and Awards
DESCRIPTION:More info: https://www.mansfieldnordic.org/bkl-info-march-4-10/
URL:https://www.mansfieldnordic.org/event/tentative-last-day-and-awards-for-penguins/
CATEGORIES:BKL,Calendar
END:VEVENT
BEGIN:VEVENT
DTSTART;TZID=America/New_York:20240305T080000
DTEND;TZID=America/New_York:20240305T170000
DTSTAMP:20260426T002633
CREATED:20240212T194648Z
LAST-MODIFIED:20240212T195222Z
UID:18980-1709625600-1709658000@www.mansfieldnordic.org
SUMMARY:BKL Practice Resumes from February Break
DESCRIPTION:Even though lots of people still have today off school we’ll have practice. Happy Town Meeting Day!
URL:https://www.mansfieldnordic.org/event/bkl-practice-resumes-from-february-break/
CATEGORIES:BKL,Calendar
END:VEVENT
BEGIN:VEVENT
DTSTART;VALUE=DATE:20240302
DTEND;VALUE=DATE:20240304
DTSTAMP:20260426T002633
CREATED:20230913T183144Z
LAST-MODIFIED:20240126T173152Z
UID:17949-1709337600-1709510399@www.mansfieldnordic.org
SUMMARY:2024 NENSA BKL Festival
DESCRIPTION:The 2024 BKL Festival is at Rikert Nordic Center! \nThe BKL Festival is a great way to celebrate the ski season. We are lucky to have the festival in our backyard for a second consecutive year (after Craftsbury 2023). This event is hosted by our friends at Frost Mountain Nordic. The weekend is full of skiing adventures\, activities\, races and fun!! Coaches will be there and we’ll have a MNC tent and hang out area. \nRegistration on SkiReg.com\nEvent Info from NENSA\nMNC FAQ Blog Post \n 
URL:https://www.mansfieldnordic.org/event/2024-nensa-bkl-festival/
LOCATION:Rikert  Nordic Center\, 106 College Cross Rd\, Ripton\, VT\, United States
CATEGORIES:BKL,Calendar
END:VEVENT
BEGIN:VEVENT
DTSTART;TZID=America/New_York:20240228T080000
DTEND;TZID=America/New_York:20240228T170000
DTSTAMP:20260426T002633
CREATED:20240212T194818Z
LAST-MODIFIED:20240223T184750Z
UID:18982-1709107200-1709139600@www.mansfieldnordic.org
SUMMARY:BKL Ski at Craftsbury Day
DESCRIPTION:Join us at Craftsbury. We’ll meet at 10am. \nMore Info \n 
URL:https://www.mansfieldnordic.org/event/bkl-ski-at-craftsbury-day/
LOCATION:Craftsbury Outdoor Center\, 555 Lost Nation Rd\, Craftsbury Common\, VT\, 05827\, United States
CATEGORIES:BKL,Calendar
END:VEVENT
BEGIN:VEVENT
DTSTART;TZID=America/New_York:20240224T183000
DTEND;TZID=America/New_York:20240224T200000
DTSTAMP:20260426T002633
CREATED:20240215T003954Z
LAST-MODIFIED:20240215T003954Z
UID:19001-1708799400-1708804800@www.mansfieldnordic.org
SUMMARY:Junior Team Dinner @ Eastern Cup 4
DESCRIPTION:MNC is having a team dinner to celebrate the final Eastern Cup races of the season! \nWe have a whole restaurant space to ourselves at Lucky Dog Tavern in Plymouth\, NH (right near Holderness). This space includes tables\, space for some team activities and talks\, and a pool table we can use. \n \nCatered meal for the evening \nChicken Parmesan \nCavatappi Pasta w/red sauce \nCaesar Salad \nRolls  \n  \nw/butter \nWater + pink lemonade \nNote that we have this entire space rented\, so while there are not GF/Vegan-specific options available\, skiers with dietary restrictions may bring some of their own food to enjoy. \nWe’d love to have as many parents and athletes join us as possible\, even if you are not racing on Sunday. The awards for Saturday’s sprint races are at 5:15PM\, and this meal begins at 6:30PM. \nCost is $25 per person\, which includes the meal as well as space rental. \nAll our coaches will be present\, and we will have some games and activities in addition to dinner. Things will wrap up by 8:30 or earlier. \nRSVP HERE by Monday\, 2/19!
URL:https://www.mansfieldnordic.org/event/junior-team-dinner-eastern-cup-4/
LOCATION:lucky dog tavern
CATEGORIES:Calendar,Juniors
END:VEVENT
BEGIN:VEVENT
DTSTART;TZID=America/New_York:20240222T080000
DTEND;TZID=America/New_York:20240222T170000
DTSTAMP:20260426T002633
CREATED:20240212T194527Z
LAST-MODIFIED:20240212T195148Z
UID:18978-1708588800-1708621200@www.mansfieldnordic.org
SUMMARY:Last BKL practice before February Break
DESCRIPTION:No regular BKL Practice from Feb 23-March 4 \nBut we do have a couple other events during break \nFeb 25 Ski with the UVM Ski Team at Sleepy Hollow \nFeb 28 Craftsbury Ski Day \nMarch 2 + 3 NENSA BKL Festival \n 
URL:https://www.mansfieldnordic.org/event/last-bkl-practice-before-february-break/
CATEGORIES:BKL,Calendar
END:VEVENT
BEGIN:VEVENT
DTSTART;VALUE=DATE:20240211
DTEND;VALUE=DATE:20240212
DTSTAMP:20260426T002633
CREATED:20240129T010733Z
LAST-MODIFIED:20240129T010733Z
UID:18848-1707609600-1707695999@www.mansfieldnordic.org
SUMMARY:EHS/U16 Qualifier
DESCRIPTION:REGISTRATION\n(Note: registration goes UP on February 4th at 11:59pm)
URL:https://www.mansfieldnordic.org/event/ehs-u16-qualifier/
LOCATION:Craftsbury Outdoor Center\, 555 Lost Nation Rd\, Craftsbury Common\, VT\, 05827\, United States
END:VEVENT
BEGIN:VEVENT
DTSTART;TZID=America/New_York:20240210T080000
DTEND;TZID=America/New_York:20240210T170000
DTSTAMP:20260426T002633
CREATED:20231129T033335Z
LAST-MODIFIED:20240205T154647Z
UID:18464-1707552000-1707584400@www.mansfieldnordic.org
SUMMARY:MNC Skiathlon
DESCRIPTION:Classic/Freestyle Skiathlon: Skiers switch from classic to freestyle skis mid-race. The Skiathlon is our MNC home race and proceeds go to the MNC Scholarship Fund. \nRegistration and Details \nVolunteer Info \nSchedule of the Day- UPDATED 2/5\n9:00-10:00am & 11:00-1:30pm Registration and bib pick-up in the Round Barn\,\n10:00 What the Heck\, I’ll Try It” 5km Freestyle (your choice of technique)\n10:15 MEN’s race Men U16 and older (6km classic + 6km freestyle).\n10:18 WOMEN’s race Women U16 and older (6km classic + 6km freestyle).\n12:00 Age-Class Podiums\n12:45 BKL races\n3:00 raffle! \nRegistration Details\nOnline Registration Deadline: Friday\, Feb 9\, 2024 at 5:00 PM ET\nDOR Registration: Adults ($50)\, U20 + WTH ($30)\, BKL ($20)\, BKL Lollipop Free   Cash\, check\, or Venmo preferred. \nBKL Race Info\nBKL Races start at 12:45\n12:45 Lollipop (~0.3km classic only)\n1:00 Grades 1/2 (1km classic only)\n1:15 Grades 3/4 (1km classic + 1km freestyle)\n1:45 Grades 5/6 (1.5km classic + 1.5km freestyle)\n2:15 Grades 7/8 (2km classic + 2km freestyle) \nLots more race info and details over in the Notes Section on SkiReg.com \nRace Director: Christine Massey\, christine.massey@uvm.edu \n 
URL:https://www.mansfieldnordic.org/event/mnc-skiathlon-4/
LOCATION:Sleepy Hollow Inn & Ski Center\, 427 Ski Lodge Dr\, Huntington\, VT\, 05462\, United States
CATEGORIES:BKL,Juniors,Masters
END:VEVENT
BEGIN:VEVENT
DTSTART;TZID=America/New_York:20240204T093000
DTEND;TZID=America/New_York:20240204T120000
DTSTAMP:20260426T002633
CREATED:20240201T231618Z
LAST-MODIFIED:20240201T231618Z
UID:18880-1707039000-1707048000@www.mansfieldnordic.org
SUMMARY:Masters Group Ski at Trapps
DESCRIPTION:Meet at the Yurt at 9:30 for a distance (of your choice) ski!
URL:https://www.mansfieldnordic.org/event/masters-group-ski-at-trapps/
LOCATION:Trapp Family Lodge\, 700 Trapp Hill Rd\, Stowe\, VT\, 05672\, United States
CATEGORIES:Masters
END:VEVENT
BEGIN:VEVENT
DTSTART;TZID=America/New_York:20240203T080000
DTEND;TZID=America/New_York:20240203T170000
DTSTAMP:20260426T002633
CREATED:20231129T032658Z
LAST-MODIFIED:20240131T184619Z
UID:18462-1706947200-1706979600@www.mansfieldnordic.org
SUMMARY:Sleepy Hollow BKL Race
DESCRIPTION:Hosted by Sleepy Hollow BKL \nWe’re getting psyched up for a BKL event at Sleepy Hollow. It’s a Classic Race and there will be Fun Park Speed Runs and a Ski Tour up past the cabin. \nEvent Info includes registration and volunteer links \nLet us know you are coming to Sleepy and we’ll send out team info before the race \n10:00 am- Lollipop ~ .5km\n10:15 am- Grades 1/2 ~ 1km\n10:45 am- Grades 3/4 ~ 2km\n11:15 am- Grades 5/6 ~ 3km\n11:45 am- Grades 7/8 ~ 4km \n 
URL:https://www.mansfieldnordic.org/event/sleepy-hollow-bkl-race-4/
LOCATION:Sleepy Hollow Inn & Ski Center\, 427 Ski Lodge Dr\, Huntington\, VT\, 05462\, United States
CATEGORIES:BKL,Calendar
END:VEVENT
BEGIN:VEVENT
DTSTART;VALUE=DATE:20240203
DTEND;VALUE=DATE:20240204
DTSTAMP:20260426T002633
CREATED:20231129T024751Z
LAST-MODIFIED:20240107T031946Z
UID:18457-1706918400-1707004799@www.mansfieldnordic.org
SUMMARY:Silver Fox Trot
DESCRIPTION:Race date updated to Feb 3 (previously 1/13) \nThe Silver Fox Trot is hosted by the Ford Sayre Nordic team.  This year the event returns to Oak Hill in Hanover! Oak Hill has reconfigured the ski trails and added snow making! \nFreestyle race (by age group/gender class)\, except for the 1st/2nd graders\, who will ski a classic race. \nScored for both Zak and Cup Cup in the NENSA Popular Race Series. \nRace Info \nNENSA Calendar Listing \n 
URL:https://www.mansfieldnordic.org/event/silver-fox-trot-2/
LOCATION:oak hill\, hanover\, nh\, 59 Oak Hill Drive\, Hanover\, NH\, 03744\, United States
CATEGORIES:BKL,Calendar
END:VEVENT
BEGIN:VEVENT
DTSTART;TZID=America/New_York:20240115T080000
DTEND;TZID=America/New_York:20240115T170000
DTSTAMP:20260426T002633
CREATED:20240108T213205Z
LAST-MODIFIED:20240108T213205Z
UID:18718-1705305600-1705338000@www.mansfieldnordic.org
SUMMARY:Geschmossel- Masters Racing
DESCRIPTION:The Geschmossel is a fun 12-15 km race in an iconic setting- beautiful Bretton Woods\, NH. In the past we’ve done car pools over in the morning from Richmond Park and Ride and plan to do that again. \nRegistration:  SkiReg link .  Online registration closes Saturday 1/13 at 5 pm. There is day of race registration (costs more). \nCheck the MNC Masters Blog for more information and race updates \n 
URL:https://www.mansfieldnordic.org/event/geschmossel-masters-racing/
LOCATION:Bretton Woods\, Bretton Woods\, NH\, United States
END:VEVENT
BEGIN:VEVENT
DTSTART;TZID=America/New_York:20240113T130000
DTEND;TZID=America/New_York:20240114T144500
DTSTAMP:20260426T002633
CREATED:20231129T031420Z
LAST-MODIFIED:20240108T164855Z
UID:18460-1705150800-1705243500@www.mansfieldnordic.org
SUMMARY:Mad River BKL Race and Fun!
DESCRIPTION:Race Date Updated to Saturday\, 1/13 (previously listed as 1/14) \nWelcome MNC and North West Vermont (NWVT) BKL skiers! \nThe Mad River BKL event is hosted at Blueberry Lake Cross Country Ski and Snowshoe Center.  Events include age based wave start freestyle race except for lollipoppers and 1st/2nd Grade who will be skiing a classic race. \nEVENT FLYER and REGISTRATION LINK \n1:00 PM – Lollipop (Kindergarten/pre-K) ~.5km \n1:15 PM – Grades 1/2 ~1km \n1:45 PM – Grades 3/4 ~ 2km \n2:15 PM – Grades 5/6 ~3 km \n2:45 PM – Grades 7/8 ~4 km
URL:https://www.mansfieldnordic.org/event/mad-river-ramble-bkl-race-2/
LOCATION:Blueberry Lake Cross Country Ski Center\, 424 Plunkton Road\, Warren\, VT\, 05674\, United States
CATEGORIES:BKL,Calendar
END:VEVENT
BEGIN:VEVENT
DTSTART;VALUE=DATE:20240106
DTEND;VALUE=DATE:20240107
DTSTAMP:20260426T002633
CREATED:20231128T202231Z
LAST-MODIFIED:20240101T161736Z
UID:18451-1704499200-1704585599@www.mansfieldnordic.org
SUMMARY:Bogburn Ski Race
DESCRIPTION:The Bogburn is for all skiers! Lollipop to Masters! \nRegistration Info | Rikert Website Race Info | NENSA Website Race Info \nRegistration Closes Friday\, Jan 5th at 5pm \n \n  \n  \n  \n 
URL:https://www.mansfieldnordic.org/event/bogburn-ski-race/
CATEGORIES:BKL,Calendar
END:VEVENT
BEGIN:VEVENT
DTSTART;TZID=America/New_York:20240102T154500
DTEND;TZID=America/New_York:20240102T171500
DTSTAMP:20260426T002633
CREATED:20231128T202023Z
LAST-MODIFIED:20231128T202023Z
UID:18449-1704210300-1704215700@www.mansfieldnordic.org
SUMMARY:BKL Practice Resumes from Holiday Break
DESCRIPTION:
URL:https://www.mansfieldnordic.org/event/bkl-practice-resumes-from-holiday-break/
CATEGORIES:BKL,Calendar
END:VEVENT
BEGIN:VEVENT
DTSTART;TZID=America/New_York:20231221T154500
DTEND;TZID=America/New_York:20231221T171500
DTSTAMP:20260426T002633
CREATED:20231128T191500Z
LAST-MODIFIED:20231128T201715Z
UID:18445-1703173500-1703178900@www.mansfieldnordic.org
SUMMARY:Last BKL Practice before Holiday Break
DESCRIPTION:
URL:https://www.mansfieldnordic.org/event/last-bkl-practice-before-holiday-break-345-515pm/
CATEGORIES:BKL,Calendar
END:VEVENT
BEGIN:VEVENT
DTSTART;TZID=America/New_York:20231216T130000
DTEND;TZID=America/New_York:20231216T150000
DTSTAMP:20260426T002633
CREATED:20231129T182034Z
LAST-MODIFIED:20231204T133840Z
UID:18467-1702731600-1702738800@www.mansfieldnordic.org
SUMMARY:MNC BKL Season Opener Ski Race
DESCRIPTION:We noticed that there aren’t any close to home BKL Races in December. We’re hosting a BKL race at Craftsbury on Saturday\, December 16th for any BKL kids interested in racing.\n\nRace Info Flyer \nThe Race Flyer includes links to Registration and Volunteering. \nPlease consider volunteering- there are a variety of jobs available.
URL:https://www.mansfieldnordic.org/event/mnc-bkl-season-opener-ski-race/
LOCATION:Craftsbury Outdoor Center\, 555 Lost Nation Rd\, Craftsbury Common\, VT\, 05827\, United States
CATEGORIES:BKL,Calendar
END:VEVENT
BEGIN:VEVENT
DTSTART;TZID=America/New_York:20231205T154500
DTEND;TZID=America/New_York:20231205T193000
DTSTAMP:20260426T002633
CREATED:20230913T143329Z
LAST-MODIFIED:20230913T144307Z
UID:17943-1701791100-1701804600@www.mansfieldnordic.org
SUMMARY:MNC Masters programming begins
DESCRIPTION:Our Masters programs will begin on Tuesday\, December 5th\, 2023! \nBe sure to register for programming and membership\, and check MNC resources online to stay updated on skiing conditions\, training groups\, and more! \nAfternoon Masters: 3:45 – 5:15 PM \nEvening Masters: 6:00 – 7:30 PM \n 
URL:https://www.mansfieldnordic.org/event/17943/
END:VEVENT
BEGIN:VEVENT
DTSTART;TZID=America/New_York:20231205T154500
DTEND;TZID=America/New_York:20231205T171500
DTSTAMP:20260426T002633
CREATED:20230913T142856Z
LAST-MODIFIED:20240212T195131Z
UID:17941-1701791100-1701796500@www.mansfieldnordic.org
SUMMARY:First MNC BKL Day!
DESCRIPTION:Our BKL programs will begin on Tuesday\, December 5th\, 2023! \nBe sure to register for programming and membership\, and check the website\, BKL Blog\, and other sources for information on our skiing. \n 
URL:https://www.mansfieldnordic.org/event/first-mnc-bkl-day/
CATEGORIES:BKL
END:VEVENT
BEGIN:VEVENT
DTSTART;TZID=America/New_York:20231203T090000
DTEND;TZID=America/New_York:20231203T150000
DTSTAMP:20260426T002633
CREATED:20231121T032026Z
LAST-MODIFIED:20231128T191515Z
UID:18424-1701594000-1701615600@www.mansfieldnordic.org
SUMMARY:Masters Mini Camp #1
DESCRIPTION:Join us on Sunday\, December 3rd at Sleepy Hollow for our first Masters Mini-Camp of the season! \nMNC coaches will help skiers work through technique\, training concepts\, and more…join us for a morning ski\, a group lunch and video review\, and an afternoon back out on the trails. \nPlease RSVP at the link below: there is no charge for this event\, but there is an option to make a donation to support the Masters waxing box 🙂 \nMasters Mini-Camp RSVP \nMasters Mini-Camp 2022!
URL:https://www.mansfieldnordic.org/event/masters-mini-camp-1/
LOCATION:Sleepy Hollow Inn & Ski Center\, 427 Ski Lodge Dr\, Huntington\, VT\, 05462\, United States
END:VEVENT
BEGIN:VEVENT
DTSTART;TZID=America/New_York:20231202T100000
DTEND;TZID=America/New_York:20231202T113000
DTSTAMP:20260426T002633
CREATED:20231128T190900Z
LAST-MODIFIED:20231128T191259Z
UID:18442-1701511200-1701516600@www.mansfieldnordic.org
SUMMARY:BKL Racers Practice #1
DESCRIPTION:Skate Technique \nMeet Coach Tom in the upper field just off the Outdoor Center Deck \nIf you don’t have a season pass you can purchase a tickets: https://www.craftsbury.com/day-passes \n$5students and $10 adults
URL:https://www.mansfieldnordic.org/event/bkl-racers-practice-1/
LOCATION:Craftsbury Outdoor Center\, 555 Lost Nation Rd\, Craftsbury Common\, VT\, 05827\, United States
CATEGORIES:BKL,Calendar
END:VEVENT
BEGIN:VEVENT
DTSTART;TZID=America/New_York:20231118T180000
DTEND;TZID=America/New_York:20231118T210000
DTSTAMP:20260426T002633
CREATED:20231019T011745Z
LAST-MODIFIED:20231019T011745Z
UID:18135-1700330400-1700341200@www.mansfieldnordic.org
SUMMARY:Masters Kickoff Social
DESCRIPTION:Are you a Masters skier\, a friend/family member of a Masters skier\, or interested in joining the club? Come to our Masters Kickoff Social on November 18th in Burlington! \nFrom 6-8PM at Queen City Brewery in the South End\, we will be eating pizza\, grabbing drinks\, and hearing from coaches and leaders on the season ahead. Catch up with your training friends\, or make some new ones\, at this fun and laid-back event! \n 
URL:https://www.mansfieldnordic.org/event/masters-kickoff-social/
LOCATION:Queen City Brewery\, 703-B Pine Street\, Burlington\, VT
CATEGORIES:Calendar,Masters
END:VEVENT
BEGIN:VEVENT
DTSTART;TZID=America/New_York:20231105T160000
DTEND;TZID=America/New_York:20231105T190000
DTSTAMP:20260426T002633
CREATED:20231019T011427Z
LAST-MODIFIED:20231027T110544Z
UID:18132-1699200000-1699210800@www.mansfieldnordic.org
SUMMARY:MNC Annual Meeting
DESCRIPTION:Join us at the Underhill Town Hall for a potluck dinner\, a gathering with other members and friends\, and presentations by club leaders! \nLearn what MNC is all about\, AND what we’re up to this winter. This is an event that allows members of all ages to gather together to welcome the coming season. \nJoin us starting at 4pm\, and sign up for a the potluck below: \nAnnual Meeting Potluck Signup \nA bonus this year? Head up to Underhill a little earlier in the afternoon and take part in the Tomasi Meadow Trot 5km! This is a fundraiser to help support the community ski trails right in town\, which MNC has now taken a collaborative stake in with the Town of Underhill! \n 
URL:https://www.mansfieldnordic.org/event/mnc-annual-meeting-5/
LOCATION:underhill town hall\, 12 Pleasant Valley Rd\, Underhill\, VT\, 05490\, United States
CATEGORIES:BKL,Calendar,Juniors,Masters
END:VEVENT
END:VCALENDAR