BEGIN:VCALENDAR
VERSION:2.0
PRODID:-//Mansfield Nordic Club - ECPv6.15.13//NONSGML v1.0//EN
CALSCALE:GREGORIAN
METHOD:PUBLISH
X-WR-CALNAME:Mansfield Nordic Club
X-ORIGINAL-URL:https://www.mansfieldnordic.org
X-WR-CALDESC:Events for Mansfield Nordic Club
REFRESH-INTERVAL;VALUE=DURATION:PT1H
X-Robots-Tag:noindex
X-PUBLISHED-TTL:PT1H
BEGIN:VTIMEZONE
TZID:America/New_York
BEGIN:DAYLIGHT
TZOFFSETFROM:-0500
TZOFFSETTO:-0400
TZNAME:EDT
DTSTART:20240310T070000
END:DAYLIGHT
BEGIN:STANDARD
TZOFFSETFROM:-0400
TZOFFSETTO:-0500
TZNAME:EST
DTSTART:20241103T060000
END:STANDARD
BEGIN:DAYLIGHT
TZOFFSETFROM:-0500
TZOFFSETTO:-0400
TZNAME:EDT
DTSTART:20250309T070000
END:DAYLIGHT
BEGIN:STANDARD
TZOFFSETFROM:-0400
TZOFFSETTO:-0500
TZNAME:EST
DTSTART:20251102T060000
END:STANDARD
BEGIN:DAYLIGHT
TZOFFSETFROM:-0500
TZOFFSETTO:-0400
TZNAME:EDT
DTSTART:20260308T070000
END:DAYLIGHT
BEGIN:STANDARD
TZOFFSETFROM:-0400
TZOFFSETTO:-0500
TZNAME:EST
DTSTART:20261101T060000
END:STANDARD
END:VTIMEZONE
BEGIN:VEVENT
DTSTART;TZID=America/New_York:20251201T190000
DTEND;TZID=America/New_York:20251201T200000
DTSTAMP:20260425T122145
CREATED:20251128T134050Z
LAST-MODIFIED:20251128T134050Z
UID:21237-1764615600-1764619200@www.mansfieldnordic.org
SUMMARY:BKL Parent Meeting (virtual)
DESCRIPTION:Join us for our virtual parent meeting to get ready for the ski season. A link for this meeting will be shared via email to everyone that is registered for our BKL programs.
URL:https://www.mansfieldnordic.org/event/bkl-parent-meeting-virtual/
CATEGORIES:BKL,Calendar
END:VEVENT
BEGIN:VEVENT
DTSTART;TZID=America/New_York:20251130T140000
DTEND;TZID=America/New_York:20251130T153000
DTSTAMP:20260425T122145
CREATED:20251117T192207Z
LAST-MODIFIED:20251117T192207Z
UID:21228-1764511200-1764516600@www.mansfieldnordic.org
SUMMARY:Coaches Clinic / Masters Ski Day @ Craftsbury
DESCRIPTION:Join us on Sunday\, November 30th for a ski day in Craftsbury! \nThanksgiving Camp for the Juniors will have just finished-up\, so the team trailer will be on-site for skiers to have some kickwaxing assistance for classic (skating is welcome too!). \nCoaches Clinic \nCoaches of all programs (BKL\, Juniors\, Masters) are encouraged to meet at the trailer at 2pm to meet with Coach Adam and Coach Liz to spend some time reviewing drills\, activities\, goals\, and more! \nMasters Ski \nMasters are encouraged to meet in the lower field at 2pm for a group ski! A bench will be set up for some kickwax help if classic skiing\, and skate skiing is of course welcome too! \nOne way or another\, it’s likely we’ll all end up spending some time getting to meet and ski with fellow club members! Don’t forget either a Craftsbury day pass\, or make sure to purchase your season pass for 25/26.
URL:https://www.mansfieldnordic.org/event/coaches-clinic-masters-ski-day-craftsbury/
CATEGORIES:Calendar,Masters
END:VEVENT
BEGIN:VEVENT
DTSTART;VALUE=DATE:20251125
DTEND;VALUE=DATE:20251201
DTSTAMP:20260425T122145
CREATED:20240910T170953Z
LAST-MODIFIED:20251201T123420Z
UID:19739-1764028800-1764547199@www.mansfieldnordic.org
SUMMARY:Junior Thanksgiving Camp 2025
DESCRIPTION:Join MNC for a week of on-snow skiing at the Craftsbury Outdoor Center from November 25 – 30th. \nKick off winter with team time\, technique work\, group intensity sessions\, and what is often the first groomed skiing of the new season. \n \n  \nBeginning Tuesday\, November 25th our group meets up at Craftsbury where snow has been stored since last winter. \nThe groomers and crew at the center put in an amazing effort to truck all that snow out for us to ski on during the week. We often share the loop with EISA college teams like Williams\, UNH\, UVM\, and Harvard\, as well as fellow NENSA clubs like EMXC. We train for 6 days/5 nights\, equal to a full typical training week (Tues – Sun). \nWe do a lot of skiing\, but also make space for strength sessions in the indoor gym\, movies and presentations in the big basement room in Cedar Lodge\, team activities and games\, and usually wake up early to watch the first World Cup of the season live from Finland! \nCamp cost is $749 and includes: \n\nCoaching compensation and overhead\nLodging for 6 days/5 nights at Craftsbury Outdoor Center\nAll daily meals at the Craftsbury dining hall\nGroup Thanksgiving Dinner put on by Craftsbury \nTrail passes for the week of skiing\nIndoor gym access for strength sessions\nEntry in end-of-week timetrial\nWax and tools for training sessions\n2025 version of camp interval t-shirt\nCamp training gear from Toko\n\nRegistration is available at the link below. Our camp will be full at 14 athletes\, but skiers may be added to a waiting list! \nThanksgiving Camp 2025
URL:https://www.mansfieldnordic.org/event/thanksgiving-camp-2024/
LOCATION:Craftsbury Outdoor Center\, 555 Lost Nation Rd\, Craftsbury Common\, VT\, 05827\, United States
CATEGORIES:Calendar,Juniors
END:VEVENT
BEGIN:VEVENT
DTSTART;TZID=America/New_York:20251121T154500
DTEND;TZID=America/New_York:20251121T164500
DTSTAMP:20260425T122145
CREATED:20251121T171957Z
LAST-MODIFIED:20251121T171957Z
UID:21232-1763739900-1763743500@www.mansfieldnordic.org
SUMMARY:BKL Fun Fall Friday #2
DESCRIPTION:We’ll play games\, hike\, do some dryland ski practice and get outside for some exercise. It’s a great chance to meet coaches\, other skiers and parents. These days are for parents and kids. Everyone is encouraged to join the groups! \nLet us know if you are coming. \nFriday\, November 14 at Mills Riverside Park\, Rt. 15\, Jericho \nFriday November 21 at Mills Riverside Park\, Rt. 15\, Jericho \n*in the past we have done 3\, but this year it’s 2 Fun Fall Fridays \nTime: 3:45 to 4:45. Bring your headlamp! Wear sneakers and layers. \nFun Fall Fridays are free and completely optional.
URL:https://www.mansfieldnordic.org/event/bkl-fun-fall-friday-2-2/
LOCATION:Mills Riverside Park\, Route 15\, Underhill\, VT\, 05489\, United States
CATEGORIES:BKL,Calendar
END:VEVENT
BEGIN:VEVENT
DTSTART;TZID=America/New_York:20251116T093000
DTEND;TZID=America/New_York:20251116T170000
DTSTAMP:20260425T122145
CREATED:20251013T204705Z
LAST-MODIFIED:20251016T022354Z
UID:21098-1763285400-1763312400@www.mansfieldnordic.org
SUMMARY:Tomasi Meadow Trot
DESCRIPTION:Registration \nVolunteer
URL:https://www.mansfieldnordic.org/event/tomasi-meadow-trot-3/
CATEGORIES:BKL,Calendar,Juniors,Masters
END:VEVENT
BEGIN:VEVENT
DTSTART;TZID=America/New_York:20251114T180000
DTEND;TZID=America/New_York:20251114T210000
DTSTAMP:20260425T122145
CREATED:20251028T132026Z
LAST-MODIFIED:20251028T132920Z
UID:21155-1763143200-1763154000@www.mansfieldnordic.org
SUMMARY:Masters Social @ Queen City Brewery
DESCRIPTION:Friday November 14th from 6-9PM \nQueen City Brewery / Pizza 44 \nMark your calendar for our fun annual Master’s Social.   Come meet the coaches\, hear about plans for the new season\, and get psyched for winter with MNC friends\, new and old. \nFamily and friends interested in joining the club\, or learning more about our programs\, are welcome and encouraged to attend. Please share the MNC spirit and energy! \nThis year we will also be honoring two departing board members who have masterfully steered the MNC ship for more than a decade:  former president Kort Longenbach and former treasurer Ken Bruce. \nThe event space at Queen City Brewery (703 Pine Street in Burlington) is reserved for our group\, with free pizza for guests and beverages available for purchase.  Don’t miss the fun!
URL:https://www.mansfieldnordic.org/event/masters-social-queen-city-brewery/
LOCATION:Queen City Brewery\, 703-B Pine Street\, Burlington\, VT
CATEGORIES:Calendar,Masters
END:VEVENT
BEGIN:VEVENT
DTSTART;TZID=America/New_York:20251114T154500
DTEND;TZID=America/New_York:20251114T164500
DTSTAMP:20260425T122145
CREATED:20251110T161630Z
LAST-MODIFIED:20251121T172025Z
UID:21173-1763135100-1763138700@www.mansfieldnordic.org
SUMMARY:BKL Fun Fall Friday #1
DESCRIPTION:*Friday Update:  This week we have some snow! We are hoping to do a little skiing around on the soccer fields. But conditions might change through the day as things warm up. Bring sneakers and ski equipment (no wax classic or rock skis if you’ve got ’em) and coaches will let you know we’re going to do. \nWe’ll play games\, hike\, do some dryland ski practice and get outside for some exercise. It’s a great chance to meet coaches\, other skiers and parents. These days are for parents and kids. Everyone is encouraged to join the groups! \nLet us know if you are coming. \nFriday\, November 14 at Mills Riverside Park\, Rt. 15\, Jericho \nFriday November 21 at Mills Riverside Park\, Rt. 15\, Jericho \n*in the past we have done 3\, but this year it’s 2 Fun Fall Fridays \nTime: 3:45 to 4:45. Bring your headlamp! Wear sneakers and layers. \nFun Fall Fridays are free and completely optional.
URL:https://www.mansfieldnordic.org/event/bkl-fun-fall-friday-1/
LOCATION:Mills Riverside Park\, Route 15\, Underhill\, VT\, 05489\, United States
CATEGORIES:BKL,Calendar
END:VEVENT
BEGIN:VEVENT
DTSTART;TZID=America/New_York:20251025T160000
DTEND;TZID=America/New_York:20251025T190000
DTSTAMP:20260425T122145
CREATED:20250731T182417Z
LAST-MODIFIED:20251025T112043Z
UID:20900-1761408000-1761418800@www.mansfieldnordic.org
SUMMARY:4th Annual MNC Ski and Gear Swap (drop-off day)
DESCRIPTION:Check out the Gear Swap page for all the info!  \nGear drop-off is Saturday\, October 25th 4-7pm \nSale is Sunday\, October 26th noon-4pm
URL:https://www.mansfieldnordic.org/event/4th-annual-mnc-ski-and-gear-swap/
LOCATION:Community Center Jericho
CATEGORIES:BKL,Calendar,Juniors,Masters
END:VEVENT
BEGIN:VEVENT
DTSTART;TZID=America/New_York:20251024T180000
DTEND;TZID=America/New_York:20251024T220000
DTSTAMP:20260425T122145
CREATED:20250914T103303Z
LAST-MODIFIED:20250922T194202Z
UID:20987-1761328800-1761343200@www.mansfieldnordic.org
SUMMARY:Mansfield Nordic Pro HALLOWEEN BALL 2025
DESCRIPTION:Put on your best costume and bring an appetite (for food and dancing) as the Pro Team hosts the first-ever Halloween Ball! Featuring food\, prizes\, raffles\, dancing\, a DJ\, and an all-around good time up in Huntington! \nJoin us at the beautiful 7th Seed retreat in Huntington. Thank you to the longtime MNC members\, the Bowen family\, for their gracious hosting of this event at their space! \nDinner! \nThe athletes and advisory board of the Pro Team will be cooking and serving up delicions food\, snacks\, and salads. Please BYOB! \nRaffle! \nYour chance to win awesome ski prizes like World Cup race bibs\, Toko gear\, Swix gloves\, Pro Team apparel\, and more! \nSilent Auction! \nWant to bid on an amazing trip to the Methow Valley\, trail passes\, beautiful paintings\, and more? You won’t want to miss a bid here! \n Meet the Team! \nGet to know the Pro Team athletes\, their experiences and goals\, and their training leading into the race season. \nCostume contest! \nChange into your constume for the contest\, or just rock your fit all night! Prizes for categories like most creative\, most “nordic”\, scariest\, etc. \nDance Party! \nTurntables spun by MNC and UVM skiing alum DJ Aidan Burt. Hope you’ll get into the spirit! \nPURCHASE TICKETS HERE
URL:https://www.mansfieldnordic.org/event/mansfield-nordic-pro-halloween-ball-2025/
LOCATION:7th seed\, 609 Delfrate Rd\, Huntington\, VT\, 05462\, United States
CATEGORIES:BKL,Calendar,Juniors,Masters
END:VEVENT
BEGIN:VEVENT
DTSTART;TZID=America/New_York:20250930T080000
DTEND;TZID=America/New_York:20250930T170000
DTSTAMP:20260425T122145
CREATED:20250915T133744Z
LAST-MODIFIED:20250915T133820Z
UID:20992-1759219200-1759251600@www.mansfieldnordic.org
SUMMARY:Skis Due for Stone Grinding
DESCRIPTION:Check out the blog post here for all the information you need on stone grinding. \n  \n 
URL:https://www.mansfieldnordic.org/event/skis-due-for-stone-grinding/
CATEGORIES:BKL,Calendar,Juniors,Masters
END:VEVENT
BEGIN:VEVENT
DTSTART;VALUE=DATE:20250928
DTEND;VALUE=DATE:20250929
DTSTAMP:20260425T122145
CREATED:20250803T193959Z
LAST-MODIFIED:20250803T193959Z
UID:20913-1759017600-1759103999@www.mansfieldnordic.org
SUMMARY:Pro Team Rollerski Clinic (Juniors)
DESCRIPTION:Join the Mansfield Nordic Pro team for a series of rollerski clinics this fall! \nThese kick-off with a BKL clinic at Allen Brook School on August 17th\, followed by a Masters clinic at the Range on September 4th\, and a Junior clinic at Allen Brook on September 28th. \nRegister below! \n \nBKL CLINIC 8/17 \nMASTERS CLINIC 9/4 \nJUNIOR CLINIC 9/28
URL:https://www.mansfieldnordic.org/event/pro-team-rollerski-clinic-juniors/
CATEGORIES:Calendar,Juniors
END:VEVENT
BEGIN:VEVENT
DTSTART;VALUE=DATE:20250919
DTEND;VALUE=DATE:20250922
DTSTAMP:20260425T122145
CREATED:20250908T194021Z
LAST-MODIFIED:20250908T194535Z
UID:20977-1758240000-1758499199@www.mansfieldnordic.org
SUMMARY:Climb to the Castle Weekend Trip (Juniors)
DESCRIPTION:Rollerski racing is a great time\, and one of the bigger (and more famous) weekends of rollerski events is happening in Lake Placid once again. \nThe Keys/Climb to the Castle races involve a skate sprint on the rollerski track in Lake Placid on Saturday\, September 20th\, followed by a hillclimb race up the Whiteface Memorial Toll Road on Sunday\, September 21st. \nFor the MNC Juniors\, this also means a race trip weekend! We have lodging in Keene\, NY just down the road from the races\, and are looking forward to a weekend on the road…we’ll depart on Friday afternoon and catch the sunset in the Adirondacks\, wake up and take a quick trip up the hill to the skate sprint\, and compete in the first day’s events. \nThen we’ll be able to spend some time in town\, check out some local spots\, get an afternoon recovery session in\, and cook dinner before resting-up for the next day. \nOn Sunday we’re only a short drive away from the start of race #2! Note that it’s also feasible to do a hike up Whiteface from one of the main trailheads if you’d prefer that to a rollerski race. We will all meet at the summit together! \nThe MNC team trip includes travel\, meals\, and lodging (note we’re seeking some additional drivers and/or may do some carpooling) and you can sign up below. The team trip does not include registration for the events themselves\, which is handled through SkiReg. \nTeam Trip: Climb to the Castle Weekend \nKeys to the Castle (Saturday Sprint) Reg \nClimb to the Castle (Hillclimb) Reg \nKeys to the Castle sprint race!
URL:https://www.mansfieldnordic.org/event/climb-to-the-castle-weekend-trip-juniors-2/
END:VEVENT
BEGIN:VEVENT
DTSTART;TZID=America/New_York:20250913T160000
DTEND;TZID=America/New_York:20250913T173000
DTSTAMP:20260425T122145
CREATED:20250722T000712Z
LAST-MODIFIED:20250722T000712Z
UID:20882-1757779200-1757784600@www.mansfieldnordic.org
SUMMARY:Workout with a PRO
DESCRIPTION:We certainly feel like the MNCC is a great place to do some strength training…but what about training with a Pro skier at an elite fitness facility a bit closer to Burlington? Your opportunity is here! Sign up for one of three special dates to “Workout with a Pro” at the HIIT Performance gym in South Burlington. \n \nREGISTER HERE  \n 
URL:https://www.mansfieldnordic.org/event/workout-with-a-pro-3/
CATEGORIES:BKL,Calendar,Juniors,Masters
END:VEVENT
BEGIN:VEVENT
DTSTART;VALUE=DATE:20250904
DTEND;VALUE=DATE:20250905
DTSTAMP:20260425T122145
CREATED:20250803T193914Z
LAST-MODIFIED:20250803T193914Z
UID:20911-1756944000-1757030399@www.mansfieldnordic.org
SUMMARY:Pro Team Rollerski Clinic (Masters)
DESCRIPTION:Join the Mansfield Nordic Pro team for a series of rollerski clinics this fall! \nThese kick-off with a BKL clinic at Allen Brook School on August 17th\, followed by a Masters clinic at the Range on September 4th\, and a Junior clinic at Allen Brook on September 28th. \nRegister below! \n \nBKL CLINIC 8/17 \nMASTERS CLINIC 9/4 \nJUNIOR CLINIC 9/28
URL:https://www.mansfieldnordic.org/event/pro-team-rollerski-clinic-masters/
CATEGORIES:Calendar,Masters
END:VEVENT
BEGIN:VEVENT
DTSTART;TZID=America/New_York:20250830T160000
DTEND;TZID=America/New_York:20250830T173000
DTSTAMP:20260425T122145
CREATED:20250722T000644Z
LAST-MODIFIED:20250722T000644Z
UID:20879-1756569600-1756575000@www.mansfieldnordic.org
SUMMARY:Workout with a PRO
DESCRIPTION:We certainly feel like the MNCC is a great place to do some strength training…but what about training with a Pro skier at an elite fitness facility a bit closer to Burlington? Your opportunity is here! Sign up for one of three special dates to “Workout with a Pro” at the HIIT Performance gym in South Burlington. \n \nREGISTER HERE  \n 
URL:https://www.mansfieldnordic.org/event/workout-with-a-pro-2/
CATEGORIES:BKL,Calendar,Juniors,Masters
END:VEVENT
BEGIN:VEVENT
DTSTART;VALUE=DATE:20250817
DTEND;VALUE=DATE:20250818
DTSTAMP:20260425T122145
CREATED:20250803T193629Z
LAST-MODIFIED:20250803T193825Z
UID:20904-1755388800-1755475199@www.mansfieldnordic.org
SUMMARY:Pro Team Rollerski Clinic (BKL)
DESCRIPTION:Join the Mansfield Nordic Pro team for a series of rollerski clinics this fall! \nThese kick-off with a BKL clinic at Allen Brook School on August 17th\, followed by a Masters clinic at the Range on September 4th\, and a Junior clinic at Allen Brook on September 28th. \nRegister below! \n \nBKL CLINIC 8/17 \nMASTERS CLINIC 9/4 \nJUNIOR CLINIC 9/28
URL:https://www.mansfieldnordic.org/event/pro-team-rollerski-clinic/
CATEGORIES:BKL,Calendar
END:VEVENT
BEGIN:VEVENT
DTSTART;VALUE=DATE:20250812
DTEND;VALUE=DATE:20250822
DTSTAMP:20260425T122145
CREATED:20250510T010632Z
LAST-MODIFIED:20250510T010632Z
UID:20768-1754956800-1755820799@www.mansfieldnordic.org
SUMMARY:Rocky Mountain Camp '25
DESCRIPTION:Learn more!
URL:https://www.mansfieldnordic.org/event/rocky-mountain-camp-25/
CATEGORIES:Calendar,Juniors
END:VEVENT
BEGIN:VEVENT
DTSTART;TZID=America/New_York:20250809T160000
DTEND;TZID=America/New_York:20250809T173000
DTSTAMP:20260425T122145
CREATED:20250722T000340Z
LAST-MODIFIED:20250722T000623Z
UID:20877-1754755200-1754760600@www.mansfieldnordic.org
SUMMARY:Workout with a PRO
DESCRIPTION:We certainly feel like the MNCC is a great place to do some strength training…but what about training with a Pro skier at an elite fitness facility a bit closer to Burlington? Your opportunity is here! Sign up for one of three special dates to “Workout with a Pro” at the HIIT Performance gym in South Burlington. \n \nREGISTER HERE  \n 
URL:https://www.mansfieldnordic.org/event/20877/
CATEGORIES:BKL,Calendar,Juniors,Masters
END:VEVENT
BEGIN:VEVENT
DTSTART;VALUE=DATE:20250723
DTEND;VALUE=DATE:20250728
DTSTAMP:20260425T122145
CREATED:20250510T010542Z
LAST-MODIFIED:20250510T010542Z
UID:20766-1753228800-1753660799@www.mansfieldnordic.org
SUMMARY:Mountain Camp '25
DESCRIPTION:Learn more about Mountain Camp!
URL:https://www.mansfieldnordic.org/event/mountain-camp-25-2/
CATEGORIES:Calendar,Juniors
END:VEVENT
BEGIN:VEVENT
DTSTART;TZID=America/New_York:20250712T083000
DTEND;TZID=America/New_York:20250712T103000
DTSTAMP:20260425T122145
CREATED:20250708T015631Z
LAST-MODIFIED:20250708T015631Z
UID:20863-1752309000-1752316200@www.mansfieldnordic.org
SUMMARY:Pro Team Community Workout: Bolton Skiwalking/Bounding
DESCRIPTION:Come join the Pro Team\, Juniors\, & Collegiate athletes Saturday at Bolton for a fun\, low-stakes community workout! \nWe will be ski walking/ski bounding up the trails\, and everyone is welcome (no experience necessary). Bring shorter ski poles if you have them\, but those aren’t mandatory. We’ll meet at the main parking lot at 8:30AM. \nThe workout is 5-7 times 7 minutes up\, with 3 min recovery…but anyone can modify as needed! \n \n 
URL:https://www.mansfieldnordic.org/event/pro-team-community-workout-bolton-skiwalking-bounding/
CATEGORIES:BKL,Calendar,Juniors,Masters
END:VEVENT
BEGIN:VEVENT
DTSTART;TZID=America/New_York:20250704T090000
DTEND;TZID=America/New_York:20250704T110000
DTSTAMP:20260425T122145
CREATED:20250630T220657Z
LAST-MODIFIED:20250630T220657Z
UID:20856-1751619600-1751626800@www.mansfieldnordic.org
SUMMARY:Ski in the Williston 4th of July Parade!
DESCRIPTION:Join MNC in the Williston 4th of July parade this year! We do this each year and it’s a lot of fun. \n\nGreat for ALL ages and abilities. If you can ski 1mph on a flat road\, you can ski in this parade!\nYou don’t even have to rollerski…you are welcome to walk or bike with us!\nA great visibility boost for the club within our community\nLots of fun with a party atmosphere and SNOW that we share with the crowd!\n\nMeet at the Johnson Farm on Route 2 at 9:00 on Friday\, and wear some MNC gear! Note that it’s best to use the Richmond exit if you are coming on the highway\, and drive west on Rt 2. The road is closed coming from the East because that’s the direction the parade will be going! \n 
URL:https://www.mansfieldnordic.org/event/ski-in-the-williston-4th-of-july-parade/
LOCATION:johnson farm
END:VEVENT
BEGIN:VEVENT
DTSTART;VALUE=DATE:20250624
DTEND;VALUE=DATE:20250625
DTSTAMP:20260425T122145
CREATED:20250320T130600Z
LAST-MODIFIED:20250320T130600Z
UID:20656-1750723200-1750809599@www.mansfieldnordic.org
SUMMARY:Junior Summer Training Begins
DESCRIPTION:Junior Summer Training Page \n  \n 
URL:https://www.mansfieldnordic.org/event/junior-summer-training-begins-2/
CATEGORIES:Calendar,Juniors
END:VEVENT
BEGIN:VEVENT
DTSTART;TZID=America/New_York:20250621T080000
DTEND;TZID=America/New_York:20250622T170000
DTSTAMP:20260425T122145
CREATED:20250319T154911Z
LAST-MODIFIED:20250319T154911Z
UID:20619-1750492800-1750611600@www.mansfieldnordic.org
SUMMARY:Okemo Weekend (Junior Trip)
DESCRIPTION:Okemo Trip Page \n 
URL:https://www.mansfieldnordic.org/event/okemo-weekend-junior-trip/
CATEGORIES:Calendar,Juniors
END:VEVENT
BEGIN:VEVENT
DTSTART;TZID=America/New_York:20250620T173000
DTEND;TZID=America/New_York:20250620T200000
DTSTAMP:20260425T122145
CREATED:20250510T011028Z
LAST-MODIFIED:20250616T135455Z
UID:20770-1750440600-1750449600@www.mansfieldnordic.org
SUMMARY:Pro Team Kickoff Fundraiser Event @ Cochrans
DESCRIPTION:Join us at Cochrans on Friday\, June 20th to celebrate Mansfield Pro Nordic! We’ll have a group run in the early evening\, followed by burgers and snacks and games at the base area. \nMore info here \nDirect link to register! \nCome train with\, and get to know\, the newest pro skiers in our corner of Vermont! \n 
URL:https://www.mansfieldnordic.org/event/pro-team-kickoff-event-cochrans/
LOCATION:Cochran’s Ski Area\, 910 Cochran Rd\, Richmond\, VT\, 05477
CATEGORIES:BKL,Calendar,Juniors,Masters
END:VEVENT
BEGIN:VEVENT
DTSTART;VALUE=DATE:20250604
DTEND;VALUE=DATE:20250605
DTSTAMP:20260425T122145
CREATED:20250529T162737Z
LAST-MODIFIED:20250529T162737Z
UID:20805-1748995200-1749081599@www.mansfieldnordic.org
SUMMARY:MNC Singlet order DUE
DESCRIPTION:Looking to stay cool on a run\, or be visible to cars on a rollerski this summer? Order an MNC singlet! These are the same super lightweight\, breathable singlets worn by our collegiate and pro athletes. \nHow does it work? \n1) Order your size and style below \n2) We will place an order on June 5th \n3) Screenprinting will take place once the items arrive \n4) Happy training! \nThanks to star Masters competitor Carolyn Siccama for helping to put this idea together\, and for modeling the piece! Carolyn is wearing a women’s XS in the photos. \nMNC Singlets  \n \n 
URL:https://www.mansfieldnordic.org/event/mnc-singlet-order-due/
CATEGORIES:BKL,Calendar,Juniors,Masters
END:VEVENT
BEGIN:VEVENT
DTSTART;TZID=America/New_York:20250530T080000
DTEND;TZID=America/New_York:20250530T170000
DTSTAMP:20260425T122145
CREATED:20250530T200324Z
LAST-MODIFIED:20250530T200324Z
UID:20812-1748592000-1748624400@www.mansfieldnordic.org
SUMMARY:Rollerski in the 4th of July Parade!
DESCRIPTION:Come rollerski in the 4th of July Parade in Williston! \nANYONE CAN JOIN! The Pro Team will be participating\, and we’ve had everyone from BKL to Juniors to Masters participate in this event. If you can ski 2mph on a flat road\, this is the event for you 🙂 \nWe meet a little early to decorate an MNC vehicle with car paint\, balloons\, flags\, and more\, and we have SNOW (from the UVM hockey rink) that we toss to the crowd. It’s a great time and a great opportunity to be visible in a community we often rollerski\, run\, and bike in. \nAfter the parade\, we’ve been known to grab ice cream\, too! \n \n 
URL:https://www.mansfieldnordic.org/event/rollerski-in-the-4th-of-july-parade/
CATEGORIES:BKL,Calendar,Juniors,Masters
END:VEVENT
BEGIN:VEVENT
DTSTART;VALUE=DATE:20250506
DTEND;VALUE=DATE:20250507
DTSTAMP:20260425T122145
CREATED:20250319T154649Z
LAST-MODIFIED:20250319T154704Z
UID:20617-1746489600-1746575999@www.mansfieldnordic.org
SUMMARY:Junior Spring Training Begins
DESCRIPTION:Junior Spring Training Page
URL:https://www.mansfieldnordic.org/event/junior-spring-training-begins-3/
CATEGORIES:Calendar,Juniors
END:VEVENT
BEGIN:VEVENT
DTSTART;TZID=America/New_York:20250503T083000
DTEND;TZID=America/New_York:20250503T100000
DTSTAMP:20260425T122145
CREATED:20250416T140826Z
LAST-MODIFIED:20250416T140826Z
UID:20754-1746261000-1746266400@www.mansfieldnordic.org
SUMMARY:Green Up Day with MNC!
DESCRIPTION:Join us at the Mansfield Nordic Community Center on Saturday\, May 3rd for Green Up Day! \nIf the weather is nice\, please consider carpooling\, riding your bike\, or parking at the gravel lot at the end of Cochran Rd and walking over to the space…there is room for 2-3 cars in front of the building\, and 3-4 cars directly across the street in the grass lot. \nMeet at the MNCC at 8:30 and be sure to wear a hi-viz short or vest (MNC attire preferred!) and some gloves. We will have trash bags and some scoopers/grabbers to help us clean up Cochran Rd and Duxbury Rd…two locations we train at and utilize often. \nBack at the MNCC we will have some snacks (donuts\, coffee\, bagels). \nThis is an event for all ages! Come out and help show how our club can support and benefit our community and landscapes that we spend so much of our time training in.
URL:https://www.mansfieldnordic.org/event/green-up-day-with-mnc-2/
LOCATION:mncc\, 3214 East Main St\, Richmond\, VT\, 05477\, United States
CATEGORIES:BKL,Calendar,Juniors,Masters
END:VEVENT
BEGIN:VEVENT
DTSTART;VALUE=DATE:20250503
DTEND;VALUE=DATE:20250504
DTSTAMP:20260425T122145
CREATED:20250410T194940Z
LAST-MODIFIED:20250410T194947Z
UID:20739-1746230400-1746316799@www.mansfieldnordic.org
SUMMARY:Skirack rollerski orders DUE
DESCRIPTION:Orders are due by May 4th\, so please fill out this form by May 3rd at the latest to get in your order for rollerskis through our team discount with Skirack! \nSkirack Rollerski Order 2025
URL:https://www.mansfieldnordic.org/event/skirack-rollerski-orders-due/
CATEGORIES:BKL,Calendar,Juniors,Masters
END:VEVENT
BEGIN:VEVENT
DTSTART;TZID=America/New_York:20250323T153000
DTEND;TZID=America/New_York:20250323T190000
DTSTAMP:20260425T122145
CREATED:20250210T181836Z
LAST-MODIFIED:20250323T173301Z
UID:20457-1742743800-1742756400@www.mansfieldnordic.org
SUMMARY:MNC Season Ender Party! at Sleepy Hollow
DESCRIPTION:Event is FULL. See you there! \nJoin us at Sleepy Hollow to celebrate the ski season with our Annual End of Season Party and Ski. This is a great chance for family and friends to get together. \nWe will have barbecue items\, salad\, drinks\, and deserts to enjoy. If skiing is still available\, we hope attendees will enjoy getting out on the snow beforehand! Skiing is included. \nSchedule: \n3:30pm – Ski  (Skiing is included in our Round Barn rental.  There’s no need to purchase a pass.) \n3:45pm – Group Run with MNC Masters.  Meet in the lodge for an out and back dirt road run. Aprox 4.5 miles\, but it’s possible to turn around at any point. \n5:30pm – Dinner at the Round Barn \n*The deadline for purchasing your ticket is Thursday\, March 20 11:59pm \n 
URL:https://www.mansfieldnordic.org/event/mnc-end-of-season-party-at-sleepy-hollow/
LOCATION:Sleepy Hollow Inn & Ski Center\, 427 Ski Lodge Dr\, Huntington\, VT\, 05462\, United States
CATEGORIES:BKL,Calendar,Juniors,Masters
END:VEVENT
END:VCALENDAR