BEGIN:VCALENDAR
VERSION:2.0
PRODID:-//Mansfield Nordic Club - ECPv6.15.13//NONSGML v1.0//EN
CALSCALE:GREGORIAN
METHOD:PUBLISH
X-WR-CALNAME:Mansfield Nordic Club
X-ORIGINAL-URL:https://www.mansfieldnordic.org
X-WR-CALDESC:Events for Mansfield Nordic Club
REFRESH-INTERVAL;VALUE=DURATION:PT1H
X-Robots-Tag:noindex
X-PUBLISHED-TTL:PT1H
BEGIN:VTIMEZONE
TZID:America/New_York
BEGIN:DAYLIGHT
TZOFFSETFROM:-0500
TZOFFSETTO:-0400
TZNAME:EDT
DTSTART:20190310T070000
END:DAYLIGHT
BEGIN:STANDARD
TZOFFSETFROM:-0400
TZOFFSETTO:-0500
TZNAME:EST
DTSTART:20191103T060000
END:STANDARD
BEGIN:DAYLIGHT
TZOFFSETFROM:-0500
TZOFFSETTO:-0400
TZNAME:EDT
DTSTART:20200308T070000
END:DAYLIGHT
BEGIN:STANDARD
TZOFFSETFROM:-0400
TZOFFSETTO:-0500
TZNAME:EST
DTSTART:20201101T060000
END:STANDARD
BEGIN:DAYLIGHT
TZOFFSETFROM:-0500
TZOFFSETTO:-0400
TZNAME:EDT
DTSTART:20210314T070000
END:DAYLIGHT
BEGIN:STANDARD
TZOFFSETFROM:-0400
TZOFFSETTO:-0500
TZNAME:EST
DTSTART:20211107T060000
END:STANDARD
END:VTIMEZONE
BEGIN:VEVENT
DTSTART;TZID=America/New_York:20200209T080000
DTEND;TZID=America/New_York:20200209T170000
DTSTAMP:20260426T002651
CREATED:20200127T215610Z
LAST-MODIFIED:20200127T215610Z
UID:13907-1581235200-1581267600@www.mansfieldnordic.org
SUMMARY:Woodstock Sweetheart Race  10K and 15K freestyle AND 5K "TRY IT" race
DESCRIPTION:
URL:https://www.mansfieldnordic.org/event/woodstock-sweetheart-race-10k-and-15k-freestyle-and-5k-try-it-race/
LOCATION:Woodstock Touring Center
END:VEVENT
BEGIN:VEVENT
DTSTART;TZID=America/New_York:20200208T080000
DTEND;TZID=America/New_York:20200208T170000
DTSTAMP:20260426T002651
CREATED:20200127T215306Z
LAST-MODIFIED:20200127T215306Z
UID:13905-1581148800-1581181200@www.mansfieldnordic.org
SUMMARY:Flying Moose Classic 20K and 10K
DESCRIPTION:
URL:https://www.mansfieldnordic.org/event/flying-moose-classic-20k-and-10k/
LOCATION:Bethel Village Trails\, Bethel\, ME\, United States
END:VEVENT
BEGIN:VEVENT
DTSTART;VALUE=DATE:20200208
DTEND;VALUE=DATE:20200210
DTSTAMP:20260426T002651
CREATED:20191120T134502Z
LAST-MODIFIED:20191120T134817Z
UID:13452-1581120000-1581292799@www.mansfieldnordic.org
SUMMARY:Eastern Cup #3: Rumford
DESCRIPTION:EVENT PAGE and RACE REGISTRATION
URL:https://www.mansfieldnordic.org/event/eastern-cup-3-rumford/
LOCATION:VT
CATEGORIES:Calendar,Juniors
END:VEVENT
BEGIN:VEVENT
DTSTART;TZID=America/New_York:20200205T080000
DTEND;TZID=America/New_York:20200205T170000
DTSTAMP:20260426T002651
CREATED:20200127T214754Z
LAST-MODIFIED:20200127T214833Z
UID:13895-1580889600-1580922000@www.mansfieldnordic.org
SUMMARY:Sleepy Hollow's Wednesday Night Worlds #6
DESCRIPTION:Race starts at 6:30 PM  2K\, 4K or 6K your choice of distance and technique! \nBring a potluck meal for after race.
URL:https://www.mansfieldnordic.org/event/sleepy-hollows-wednesday-night-worlds/
LOCATION:Sleepy Hollow Inn & Ski Center\, 427 Ski Lodge Dr\, Huntington\, VT\, 05462\, United States
END:VEVENT
BEGIN:VEVENT
DTSTART;TZID=America/New_York:20200202T080000
DTEND;TZID=America/New_York:20200202T170000
DTSTAMP:20260426T002651
CREATED:20200107T003351Z
LAST-MODIFIED:20200107T003351Z
UID:13740-1580630400-1580662800@www.mansfieldnordic.org
SUMMARY:Craftsbury Marathon Freestyle
DESCRIPTION:33K or 16K
URL:https://www.mansfieldnordic.org/event/craftsbury-marathon-freestyle/
LOCATION:Craftsbury Outdoor Center\, 555 Lost Nation Rd\, Craftsbury Common\, VT\, 05827\, United States
END:VEVENT
BEGIN:VEVENT
DTSTART;TZID=America/New_York:20200201T080000
DTEND;TZID=America/New_York:20200201T170000
DTSTAMP:20260426T002651
CREATED:20200107T003203Z
LAST-MODIFIED:20200107T003203Z
UID:13738-1580544000-1580576400@www.mansfieldnordic.org
SUMMARY:Craftsbury Marathon Classic
DESCRIPTION:33K or 50K  mass start
URL:https://www.mansfieldnordic.org/event/craftsbury-marathon-classic/
LOCATION:Craftsbury Outdoor Center\, 555 Lost Nation Rd\, Craftsbury Common\, VT\, 05827\, United States
END:VEVENT
BEGIN:VEVENT
DTSTART;TZID=America/New_York:20200129T080000
DTEND;TZID=America/New_York:20200129T170000
DTSTAMP:20260426T002651
CREATED:20200107T002948Z
LAST-MODIFIED:20200107T003527Z
UID:13736-1580284800-1580317200@www.mansfieldnordic.org
SUMMARY:Sleepy Hollow Wednesday Night Worlds #5
DESCRIPTION:2K\, 4K or 6K your choice of distance and technique! \nBring a potluck meal for after race.
URL:https://www.mansfieldnordic.org/event/sleepy-hollow-wednesday-night-worlds-4/
LOCATION:Sleepy Hollow Inn & Ski Center\, 427 Ski Lodge Dr\, Huntington\, VT\, 05462\, United States
END:VEVENT
BEGIN:VEVENT
DTSTART;TZID=America/New_York:20200126T130000
DTEND;TZID=America/New_York:20200126T160000
DTSTAMP:20260426T002651
CREATED:20200120T005135Z
LAST-MODIFIED:20200120T205213Z
UID:13812-1580043600-1580054400@www.mansfieldnordic.org
SUMMARY:Craftsbury SuperBKL CLASSIC Race
DESCRIPTION:It’s a big weekend coming up in Craftsbury!  SuperTour! Eastern Cup!  UVM Carnival!  So much spectating and amazing skiing!\n\nAnd the highlight: the SuperBKL Classic on Sunday\, 1/26.  Note: this will now be a classic mass start (by age group) race.\n\nRegistration: at 11:30 AM in the Activity Center.  Please note: there will be NO REGISTRATION FEES for all age categories in this event.\n\nRacing begins at 1:00 PM with the 7th/8th grade group.\n\nCourses will be close to standard BKL distances.  Maps will be available for review at registration.\n(Grade 1/2- 1km\, Grade 3/4 2km\, Grade 5/6 3km\, Grade 7/8 4 km).\n\nResults will be order-of finish with no times for grades K-6.  There will be timed results for grades 7/8.\n\nWhile SuperTour races are not subject to the Craftsbury wax policy\, the SuperBKL Classic will follow the Center’s wax guidelines available for review here.\n2020SuperBKLClassicFlyer \n  \n 
URL:https://www.mansfieldnordic.org/event/craftsbury-freestyle-bkl-race/
LOCATION:Craftsbury Outdoor Center\, 555 Lost Nation Rd\, Craftsbury Common\, VT\, 05827\, United States
CATEGORIES:BKL,Calendar
END:VEVENT
BEGIN:VEVENT
DTSTART;TZID=America/New_York:20200126T080000
DTEND;TZID=America/New_York:20200126T170000
DTSTAMP:20260426T002651
CREATED:20200107T002427Z
LAST-MODIFIED:20200107T002427Z
UID:13732-1580025600-1580058000@www.mansfieldnordic.org
SUMMARY:Lost Nations Cup Citizens Classic 10K
DESCRIPTION:Mass start – separate citizens race after the open super tour/EC race.  This separate race is suitable for all masters
URL:https://www.mansfieldnordic.org/event/lost-nations-cup-citizens-classic-10k/
LOCATION:Craftsbury Outdoor Center\, 555 Lost Nation Rd\, Craftsbury Common\, VT\, 05827\, United States
END:VEVENT
BEGIN:VEVENT
DTSTART;TZID=America/New_York:20200126T080000
DTEND;TZID=America/New_York:20200126T170000
DTSTAMP:20260426T002651
CREATED:20191213T174145Z
LAST-MODIFIED:20191213T174145Z
UID:13636-1580025600-1580058000@www.mansfieldnordic.org
SUMMARY:Freeman Frost White Mtn 22K classic
DESCRIPTION:
URL:https://www.mansfieldnordic.org/event/freeman-frost-white-mtn-22k-classic/
LOCATION:Jackson Ski Touring Foundation\, 153 Village Rd\, Jackson \, NH\, 03846\, United States
END:VEVENT
BEGIN:VEVENT
DTSTART;VALUE=DATE:20200126
DTEND;VALUE=DATE:20200127
DTSTAMP:20260426T002651
CREATED:20200120T004847Z
LAST-MODIFIED:20200120T004847Z
UID:13810-1579996800-1580083199@www.mansfieldnordic.org
SUMMARY:15th Annual Mt Top Paintball Biathlon BKL & Citizen Race
DESCRIPTION:A really fun race that all the kids love!  Ski a loop\, shoot five paintballs at targets\, ski another loop\, shoot more paintballs!  Well organized and always well-attended! \nRegistration is open on SKIREG!  (closing Saturday\, 25 jan 20 @ 10am): \nhttps://www.skireg.com/15th-annual-mountain-top-paintball-biathlon \nEntrants will receive a Mountain Top Resort Paintball Biathlon SKIDA headband while supply lasts… register early! \nThe 2 km snowmaking loop and the stadium area have been re-fortified with even more snow\, so we are prepared for whatever crazy weather is to come our way. \nTargets are clean and waiting for the first of 16\,000 paintballs to hit them!
URL:https://www.mansfieldnordic.org/event/15th-annual-mt-top-paintball-biathlon-bkl-citizen-race/
LOCATION:Mt. Top XC Center\, Mt. Top Resort\, Chittenden\, VT\, United States
CATEGORIES:BKL,Calendar
END:VEVENT
BEGIN:VEVENT
DTSTART;TZID=America/New_York:20200125T080000
DTEND;TZID=America/New_York:20200125T170000
DTSTAMP:20260426T002651
CREATED:20191213T174037Z
LAST-MODIFIED:20191213T174037Z
UID:13634-1579939200-1579971600@www.mansfieldnordic.org
SUMMARY:Lost Nations Cup 5K women/10K men freestyle
DESCRIPTION:
URL:https://www.mansfieldnordic.org/event/lost-nations-cup-5k-women-10k-men-freestyle/
LOCATION:Craftsbury Outdoor Center\, 555 Lost Nation Rd\, Craftsbury Common\, VT\, 05827\, United States
END:VEVENT
BEGIN:VEVENT
DTSTART;VALUE=DATE:20200125
DTEND;VALUE=DATE:20200127
DTSTAMP:20260426T002651
CREATED:20191120T134345Z
LAST-MODIFIED:20191120T134345Z
UID:13449-1579910400-1580083199@www.mansfieldnordic.org
SUMMARY:Eastern Cup #2: Craftsbury
DESCRIPTION:EVENT PAGE and RACE REGISTRATION\nCombined with US Ski and Snowboard Supertour. Events for Juniors AND Masters/Citizen racers.
URL:https://www.mansfieldnordic.org/event/eastern-cup-2-craftsbury/
LOCATION:VT
CATEGORIES:Calendar,Juniors,Masters
END:VEVENT
BEGIN:VEVENT
DTSTART;TZID=America/New_York:20200122T080000
DTEND;TZID=America/New_York:20200122T170000
DTSTAMP:20260426T002651
CREATED:20200107T002826Z
LAST-MODIFIED:20200107T003623Z
UID:13734-1579680000-1579712400@www.mansfieldnordic.org
SUMMARY:Wednesday Night Worlds #4  Sleepy Hollow
DESCRIPTION:2K\, 4K or 6K your choice of distance and technique! \nBring a potluck meal for after race.
URL:https://www.mansfieldnordic.org/event/wednesday-night-worlds-3-sleepy-hollow/
LOCATION:Sleepy Hollow Inn & Ski Center\, 427 Ski Lodge Dr\, Huntington\, VT\, 05462\, United States
END:VEVENT
BEGIN:VEVENT
DTSTART;TZID=America/New_York:20200120T080000
DTEND;TZID=America/New_York:20200120T170000
DTSTAMP:20260426T002651
CREATED:20191213T173924Z
LAST-MODIFIED:20191213T173924Z
UID:13632-1579507200-1579539600@www.mansfieldnordic.org
SUMMARY:Geschmossel 15K Classic
DESCRIPTION:
URL:https://www.mansfieldnordic.org/event/geschmossel-15k-classic/
LOCATION:Bretton Woods\, Bretton Woods\, NH\, United States
END:VEVENT
BEGIN:VEVENT
DTSTART;TZID=America/New_York:20200120T073000
DTEND;TZID=America/New_York:20200120T160000
DTSTAMP:20260426T002651
CREATED:20200113T122452Z
LAST-MODIFIED:20200119T212400Z
UID:13777-1579505400-1579536000@www.mansfieldnordic.org
SUMMARY:Geschmossel Masters Trip: Meet @ Richmond Park and Ride
DESCRIPTION:THE RACE FOR THE CLUB CUP IS TIGHT and our club is within striking distance. Never before have we held this close to the top of the leaderboard\, with only a few key points separating us from the lead. Remember\, everyone that races scores points for the Club Cup\, regardless of your ability level or speed. The Club Cup is most often won by participation number\, NOT by hardcore racers. The best opportunity to close the gap is the Geschmossel ski race \nThis event features a beautiful\, gentle course and conditions are looking fantastic with a big storm of new snow hitting New England on Saturday. \nGeschmossel MNC Trip Info \nWe will have a TEAM VAN for Masters looking to race this event…just jump in the van and focus on your race. Coach Adam will drive the van (12 available seats assuming we remove the rear 2 seats to fit team and personal gear) down to Bretton Woods. MNC will provide wax and waxing help\, though if you have your own wax you are encouraged to utilize it. \nDepart: 7:30AM from Richmond Park and Ride \nArrive: 9:45AM \nTent set-up\, bib pickup\, wax testing\, etc \nRace begins: 11:00AM \nAwards: 1:00PM \nRide back: 1:30PM\, with stop for libations at the delicious Bethlehem Village Store \nNENSA EVENT PAGE \nSKIREG REGISTRATION \n \n 
URL:https://www.mansfieldnordic.org/event/geschmossel-masters-trip/
LOCATION:Bretton Woods\, Bretton Woods\, NH\, United States
CATEGORIES:Calendar,Masters
END:VEVENT
BEGIN:VEVENT
DTSTART;TZID=America/New_York:20200119T080000
DTEND;TZID=America/New_York:20200119T170000
DTSTAMP:20260426T002651
CREATED:20191213T173829Z
LAST-MODIFIED:20191213T173829Z
UID:13629-1579420800-1579453200@www.mansfieldnordic.org
SUMMARY:Weston Ski Track 'Race for Snow' freestyle 5K
DESCRIPTION:benefits 350.org  –  flat and usually very fast
URL:https://www.mansfieldnordic.org/event/weston-ski-track-race-for-snow-freestyle-5k/
LOCATION:Weston Ski Track\, 190 Park Road\, Weston\, MA\, 02493\, United States
END:VEVENT
BEGIN:VEVENT
DTSTART;TZID=America/New_York:20200118T080000
DTEND;TZID=America/New_York:20200118T170000
DTSTAMP:20260426T002651
CREATED:20200107T001932Z
LAST-MODIFIED:20200107T001932Z
UID:13730-1579334400-1579366800@www.mansfieldnordic.org
SUMMARY:ADK Citizens Challenge Race #2
DESCRIPTION:Mass start – choice of 3K\, 6K or 12K\, classic or skate
URL:https://www.mansfieldnordic.org/event/adk-citizens-challenge-race-2/
LOCATION:Mt. Van Hovenberg\, 5021 Rte 86 Scenic\, Wilmington NY\, Lake Placid\, NY\, United States
END:VEVENT
BEGIN:VEVENT
DTSTART;TZID=America/New_York:20200118T080000
DTEND;TZID=America/New_York:20200118T170000
DTSTAMP:20260426T002651
CREATED:20200102T190848Z
LAST-MODIFIED:20200102T190848Z
UID:13709-1579334400-1579366800@www.mansfieldnordic.org
SUMMARY:Silver Fox Trot BKL Race
DESCRIPTION:Always a very well-run race featuring traditional BKL distances on the lovely trails of Rikert. \n  \nLocation: Rikert Nordic Center\, Ripton \nTime: Registration at 9\, Races start at 10:45 \nRegistration: Online by Thursday Jan. 16 at Silver Fox Trot.  \nDay of Race Registration available too. \nTechnique: SKATE \nDistances:  Grades 1/2: 1 km\,   Grades 3/4: 2 km\, Grades 5/6: 3km\, Grades 7/8: 4 km. \n  \n 
URL:https://www.mansfieldnordic.org/event/silver-fox-trot-bkl-race-2/
LOCATION:Rikert  Nordic Center\, 106 College Cross Rd\, Ripton\, VT\, United States
CATEGORIES:BKL
END:VEVENT
BEGIN:VEVENT
DTSTART;TZID=America/New_York:20200115T080000
DTEND;TZID=America/New_York:20200115T170000
DTSTAMP:20260426T002651
CREATED:20191201T172443Z
LAST-MODIFIED:20200107T003708Z
UID:13573-1579075200-1579107600@www.mansfieldnordic.org
SUMMARY:Sleepy Hollow Wednesday Night Worlds #3
DESCRIPTION:2K\, 4K and 6K options\, skate or classic. ANYONE WHO CAN SKI 2K CAN DO THIS RACE Bring potluck food. Race starts at 6:30. Get there at 5:30 to enter and warm up..
URL:https://www.mansfieldnordic.org/event/sleepy-hollow-wednesday-night-worlds-2/
LOCATION:Sleepy Hollow Inn & Ski Center\, 427 Ski Lodge Dr\, Huntington\, VT\, 05462\, United States
END:VEVENT
BEGIN:VEVENT
DTSTART;TZID=America/New_York:20200111T080000
DTEND;TZID=America/New_York:20200111T170000
DTSTAMP:20260426T002651
CREATED:20191201T172345Z
LAST-MODIFIED:20191201T172345Z
UID:13571-1578729600-1578762000@www.mansfieldnordic.org
SUMMARY:Trapps Race to the Cabin ~5K Classic
DESCRIPTION:
URL:https://www.mansfieldnordic.org/event/trapps-race-to-the-cabin-5k-classic/
LOCATION:Trapp Family Lodge\, 700 Trapp Hill Rd\, Stowe\, VT\, 05672\, United States
END:VEVENT
BEGIN:VEVENT
DTSTART;TZID=America/New_York:20200111T080000
DTEND;TZID=America/New_York:20200111T170000
DTSTAMP:20260426T002651
CREATED:20191201T172251Z
LAST-MODIFIED:20191201T172251Z
UID:13569-1578729600-1578762000@www.mansfieldnordic.org
SUMMARY:Eph's Challenge Classic 10K and 5K
DESCRIPTION:
URL:https://www.mansfieldnordic.org/event/ephs-challenge-classic-10k-and-5k/
LOCATION:Prospect Mountain Ski Area\, Woodford\, VT\, United States
END:VEVENT
BEGIN:VEVENT
DTSTART;TZID=America/New_York:20200111T080000
DTEND;TZID=America/New_York:20200111T170000
DTSTAMP:20260426T002651
CREATED:20191201T172043Z
LAST-MODIFIED:20191201T172043Z
UID:13567-1578729600-1578762000@www.mansfieldnordic.org
SUMMARY:Bogburn Classic 13K (men\, women) BKL race w/shorter distances
DESCRIPTION:Individual start.  Challenging single track course.
URL:https://www.mansfieldnordic.org/event/bogburn-classic-13k-men-women-bkl-race-w-shorter-distances/
LOCATION:Haydock Farm\, 1051 Skyline Dr.\, North Pomfret\, VT\, United States
END:VEVENT
BEGIN:VEVENT
DTSTART;VALUE=DATE:20200111
DTEND;VALUE=DATE:20200112
DTSTAMP:20260426T002651
CREATED:20200102T185928Z
LAST-MODIFIED:20200102T190011Z
UID:13707-1578700800-1578787199@www.mansfieldnordic.org
SUMMARY:Bogburn BKL Classic
DESCRIPTION:This is always a favorite race and done by BKL kids\, juniors\, parents and coaches!  A classic race on lovely old-time (narrower) trails through the woods held at the Haydock’s Farm in Pomfret. \nRegister Online by Friday\, 1/10 at 5 pm:  Bogburn Classic SkiReg \nCost:  $10 online\, probably $15 Day of Race \nDistance:  2.5km for all BKL \nTime:  Registration opens at 8:30\, Races begin at 10 AM.  Please arrive 90 minutes before start time to allow us time to wax your skis and to ski the course. \nFormat:  Individual Start\, 15-30 seconds apart.
URL:https://www.mansfieldnordic.org/event/bogburn-bkl-classic/
LOCATION:Haydock Farm\, 1051 Skyline Dr.\, North Pomfret\, VT\, United States
CATEGORIES:BKL
END:VEVENT
BEGIN:VEVENT
DTSTART;TZID=America/New_York:20200108T080000
DTEND;TZID=America/New_York:20200108T170000
DTSTAMP:20260426T002651
CREATED:20191201T171826Z
LAST-MODIFIED:20200107T003757Z
UID:13565-1578470400-1578502800@www.mansfieldnordic.org
SUMMARY:Sleepy Hollow "Wednesday Night Worlds #2"
DESCRIPTION:2K\, 4K and 6K options\, skate or classic. ANYONE WHO CAN SKI 2K CAN DO THIS RACE Bring potluck food. Race starts at 6:30. Get there at 5:30 to enter and warm up..
URL:https://www.mansfieldnordic.org/event/sleepy-hollow-wednesday-night-worlds/
LOCATION:Sleepy Hollow Inn & Ski Center\, 427 Ski Lodge Dr\, Huntington\, VT\, 05462\, United States
END:VEVENT
BEGIN:VEVENT
DTSTART;TZID=America/New_York:20200105T100000
DTEND;TZID=America/New_York:20200105T123000
DTSTAMP:20260426T002651
CREATED:20191230T015152Z
LAST-MODIFIED:20200102T184833Z
UID:13703-1578218400-1578227400@www.mansfieldnordic.org
SUMMARY:BKL Stowe Nordic Cross-Cut Classic
DESCRIPTION:*This race is at the Stowe Mountain Cross-Country Center\, Rte. 108\, just before the Toll Road. \nTime:  10 am registration\, 11:30 race \nCost: $10\, Day of Race registration only \nDistance: Probably 2-3 km for everyone. \nFormat:  Mass Start – all kids together \n 
URL:https://www.mansfieldnordic.org/event/bkl-stowe-nordic-cross-cut-classic/
LOCATION:Stowe Mountain Cross Country Center\, Stowe\, VT\, United States
CATEGORIES:BKL,Calendar
END:VEVENT
BEGIN:VEVENT
DTSTART;TZID=America/New_York:20200105T080000
DTEND;TZID=America/New_York:20200105T170000
DTSTAMP:20260426T002651
CREATED:20191201T171631Z
LAST-MODIFIED:20191201T171631Z
UID:13563-1578211200-1578243600@www.mansfieldnordic.org
SUMMARY:Gunstock Freestyle 8.4K men 12.6K women\, BKL races too
DESCRIPTION:Individual statrt
URL:https://www.mansfieldnordic.org/event/gunstock-freestyle-8-4k-men-12-6k-women-bkl-races-too/
LOCATION:Gunstock Nordic Ski Area\, Guilford\, NH
END:VEVENT
BEGIN:VEVENT
DTSTART;VALUE=DATE:20200105
DTEND;VALUE=DATE:20200106
DTSTAMP:20260426T002651
CREATED:20191119T175626Z
LAST-MODIFIED:20191119T175639Z
UID:13442-1578182400-1578268799@www.mansfieldnordic.org
SUMMARY:Crosscut Classic 10K
DESCRIPTION:Individual start
URL:https://www.mansfieldnordic.org/event/crosscut-classic-10k/
LOCATION:Stowe Mountain Cross Country Center\, Stowe\, VT\, United States
END:VEVENT
BEGIN:VEVENT
DTSTART;TZID=America/New_York:20200101T110000
DTEND;TZID=America/New_York:20200101T123000
DTSTAMP:20260426T002651
CREATED:20191229T013824Z
LAST-MODIFIED:20191229T013824Z
UID:13696-1577876400-1577881800@www.mansfieldnordic.org
SUMMARY:BKL New Year's Family Ski
DESCRIPTION:Ski-in the new year with a family ski at the Craftsbury Outdoor Center! Meet Coach Rosemary outside the Touring Center on skis at 11 AM.  Parents\, siblings\, masters\, Juniors – everyone is welcome. Your choice of technique. Purchase trail passes inside if you don’t have a membership: $5 kids\, $10 adults. \n  \n 
URL:https://www.mansfieldnordic.org/event/bkl-new-years-family-ski/
LOCATION:Craftsbury Outdoor Center\, 555 Lost Nation Rd\, Craftsbury Common\, VT\, 05827\, United States
CATEGORIES:BKL,Calendar,Juniors,Masters
END:VEVENT
BEGIN:VEVENT
DTSTART;TZID=America/New_York:20200101T063000
DTEND;TZID=America/New_York:20200101T200000
DTSTAMP:20260426T002651
CREATED:20191201T171314Z
LAST-MODIFIED:20191201T171400Z
UID:13560-1577860200-1577908800@www.mansfieldnordic.org
SUMMARY:Sleepy Hollow "Wednesday Night Worlds"  MNC Masters night
DESCRIPTION:2K\, 4K and 6K options\, skate or classic. ANYONE WHO CAN SKI 2K CAN DO THIS RACE Bring potluck food.  Race starts at 6:30  Meet there at 5:30 to enter and warm up..
URL:https://www.mansfieldnordic.org/event/sleepy-hollow-wednesday-night-worlds-1-mnc-masters-night/
LOCATION:Sleepy Hollow Inn & Ski Center\, 427 Ski Lodge Dr\, Huntington\, VT\, 05462\, United States
END:VEVENT
END:VCALENDAR