BEGIN:VCALENDAR
VERSION:2.0
PRODID:-//Mansfield Nordic Club - ECPv6.15.13//NONSGML v1.0//EN
CALSCALE:GREGORIAN
METHOD:PUBLISH
X-WR-CALNAME:Mansfield Nordic Club
X-ORIGINAL-URL:https://www.mansfieldnordic.org
X-WR-CALDESC:Events for Mansfield Nordic Club
REFRESH-INTERVAL;VALUE=DURATION:PT1H
X-Robots-Tag:noindex
X-PUBLISHED-TTL:PT1H
BEGIN:VTIMEZONE
TZID:America/New_York
BEGIN:DAYLIGHT
TZOFFSETFROM:-0500
TZOFFSETTO:-0400
TZNAME:EDT
DTSTART:20240310T070000
END:DAYLIGHT
BEGIN:STANDARD
TZOFFSETFROM:-0400
TZOFFSETTO:-0500
TZNAME:EST
DTSTART:20241103T060000
END:STANDARD
BEGIN:DAYLIGHT
TZOFFSETFROM:-0500
TZOFFSETTO:-0400
TZNAME:EDT
DTSTART:20250309T070000
END:DAYLIGHT
BEGIN:STANDARD
TZOFFSETFROM:-0400
TZOFFSETTO:-0500
TZNAME:EST
DTSTART:20251102T060000
END:STANDARD
BEGIN:DAYLIGHT
TZOFFSETFROM:-0500
TZOFFSETTO:-0400
TZNAME:EDT
DTSTART:20260308T070000
END:DAYLIGHT
BEGIN:STANDARD
TZOFFSETFROM:-0400
TZOFFSETTO:-0500
TZNAME:EST
DTSTART:20261101T060000
END:STANDARD
BEGIN:DAYLIGHT
TZOFFSETFROM:-0500
TZOFFSETTO:-0400
TZNAME:EDT
DTSTART:20270314T070000
END:DAYLIGHT
BEGIN:STANDARD
TZOFFSETFROM:-0400
TZOFFSETTO:-0500
TZNAME:EST
DTSTART:20271107T060000
END:STANDARD
END:VTIMEZONE
BEGIN:VEVENT
DTSTART;TZID=America/New_York:20260411T153000
DTEND;TZID=America/New_York:20260411T183000
DTSTAMP:20260425T122115
CREATED:20260331T133212Z
LAST-MODIFIED:20260331T133212Z
UID:21482-1775921400-1775932200@www.mansfieldnordic.org
SUMMARY:End-Of-Season Potluck Party @ Sleepy
DESCRIPTION:Join us at Sleepy Hollow’s round barn for an end-of-season potluck! We will have an option for a out-and-back group run (trails if dry\, road if not) followed by a shared meal with club members and friends. \nKids are encouraged to come\, along with all our Masters\, Juniors\, and Pro athletes. \nRSVP for the event below\, where you’ll also find a potluck signup sheet! \nEnd-Of-Season Party 2026
URL:https://www.mansfieldnordic.org/event/end-of-season-potluck-party-sleepy/
CATEGORIES:BKL,Calendar,Juniors,Masters
END:VEVENT
BEGIN:VEVENT
DTSTART;TZID=America/New_York:20260404T080000
DTEND;TZID=America/New_York:20260404T170000
DTSTAMP:20260425T122115
CREATED:20260209T201025Z
LAST-MODIFIED:20260209T201518Z
UID:21399-1775289600-1775322000@www.mansfieldnordic.org
SUMMARY:Cochran's Nordic X
DESCRIPTION:IYKYK \n \n 
URL:https://www.mansfieldnordic.org/event/cochrans-nordic-x/
CATEGORIES:BKL,Calendar,Juniors,Masters
END:VEVENT
BEGIN:VEVENT
DTSTART;TZID=America/New_York:20260310T151500
DTEND;TZID=America/New_York:20260310T170000
DTSTAMP:20260425T122115
CREATED:20260209T164439Z
LAST-MODIFIED:20260311T171153Z
UID:21394-1773155700-1773162000@www.mansfieldnordic.org
SUMMARY:BKL Last Day and Awards for JackRabbits\, Arctic Foxes\, Racers & Devos
DESCRIPTION:It’s confirmed! Tuesday\, March 10th is going to be our last day – Celebration and Awards\nWe are going to end early at 5:00pm \nOur last day can be a bit of a moving target depending on snow conditions\, but this is the day we plan to be our last practice and awards. \nBKL Practice Schedule – Weekly Info
URL:https://www.mansfieldnordic.org/event/bkl-last-day-and-awards-for-jackrabbits-arctic-foxes-racers-devos-2/
CATEGORIES:BKL,Calendar
END:VEVENT
BEGIN:VEVENT
DTSTART;TZID=America/New_York:20260310T151500
DTEND;TZID=America/New_York:20260310T170000
DTSTAMP:20260425T122115
CREATED:20260209T164104Z
LAST-MODIFIED:20260309T195750Z
UID:21392-1773155700-1773162000@www.mansfieldnordic.org
SUMMARY:BKL Penguins Group Tentative Last Day and Awards
DESCRIPTION:It’s confirmed! This is going to be our last day – Celebration and Awards\nWe are going to end early at 5:00pm \nOur last day can be a bit of a moving target with weather and snow conditions. We expect this to be our last day and awards for Penguins.\nBKL Practice Schedule – Weekly Info
URL:https://www.mansfieldnordic.org/event/bkl-penguins-group-tentative-last-day-and-awards-2/
CATEGORIES:BKL,Calendar
END:VEVENT
BEGIN:VEVENT
DTSTART;TZID=America/New_York:20260307T080000
DTEND;TZID=America/New_York:20260307T170000
DTSTAMP:20260425T122115
CREATED:20260220T183927Z
LAST-MODIFIED:20260220T183927Z
UID:21435-1772870400-1772902800@www.mansfieldnordic.org
SUMMARY:Frost BKL Ski-a-thon
DESCRIPTION:Frost Mtn Skiathon – Saturday\, March 7  \nMore Info \nFrost BKL is hosting the First Annual Frost Mountain Ski-a-thon and it’s for all ages and abilities. Instead of a race format\, they want kids (and their parents) to set a distance goal and try to ski that amount of kilometers. For some of our new or youngest skiers\, the goal may be 1 kilometer; for more advanced or ambitious skiers\, the goal might be 5\,10 or even 20k (or more!).
URL:https://www.mansfieldnordic.org/event/frost-bkl-ski-a-thon/
LOCATION:Rikert  Nordic Center\, 106 College Cross Rd\, Ripton\, VT\, United States
CATEGORIES:BKL,Calendar
END:VEVENT
BEGIN:VEVENT
DTSTART;TZID=America/New_York:20260303T151500
DTEND;TZID=America/New_York:20260303T171500
DTSTAMP:20260425T122115
CREATED:20260209T163731Z
LAST-MODIFIED:20260209T163731Z
UID:21390-1772550900-1772558100@www.mansfieldnordic.org
SUMMARY:BKL Practice Resumes
DESCRIPTION:We hope everyone had a great February Break! \nBKL Practice Schedule – Weekly Info
URL:https://www.mansfieldnordic.org/event/bkl-practice-resumes-3/
CATEGORIES:BKL,Calendar
END:VEVENT
BEGIN:VEVENT
DTSTART;TZID=America/New_York:20260228T080000
DTEND;TZID=America/New_York:20260301T170000
DTSTAMP:20260425T122115
CREATED:20250715T194103Z
LAST-MODIFIED:20251117T135500Z
UID:20866-1772265600-1772384400@www.mansfieldnordic.org
SUMMARY:2026 NENSA BKL Festival
DESCRIPTION:The 2026 BKL Festival is at Jackson Ski Touring Foundation in Jackson\, NH. \nThe BKL Festival is a great way to celebrate the ski season. The weekend is full of skiing adventures\, activities\, races and fun!! Coaches will be there and we’ll have a MNC tent and hang out area. \nThe Festival features racing as well as a wide range of winter adventure activities for skiers of all ability levels from kindergarten up to 8th grade. \nRegistration opens mid-December through NENSA. \nWe had an awesome time at Quary Road Trails last year – check out the recap video. 2025 Event Recap Video \nEvent Info from NENSA
URL:https://www.mansfieldnordic.org/event/2026-nensa-bkl-festival/
LOCATION:Jackson Ski Touring Foundation\, 153 Village Rd\, Jackson \, NH\, 03846\, United States
CATEGORIES:BKL,Calendar
END:VEVENT
BEGIN:VEVENT
DTSTART;TZID=America/New_York:20260222T090000
DTEND;TZID=America/New_York:20260222T140000
DTSTAMP:20260425T122115
CREATED:20251105T163735Z
LAST-MODIFIED:20260121T193845Z
UID:21171-1771750800-1771768800@www.mansfieldnordic.org
SUMMARY:MNC Skiathlon
DESCRIPTION:Classic/Freestyle Skiathlon: Skiers switch from classic to freestyle skis mid-race. The Skiathlon is our MNC home race and proceeds go to the MNC Scholarship Fund. \nRegistration and Details \nSchedule of the Day\n9:00-10:00am & 11:00-1:30pm Registration and bib pick-up in the Round Barn\,\n10:00 MEN’s race Men U16 and older (6km classic + 6km freestyle).\n10:03 WOMEN’s race Women U16 and older (6km classic + 6km freestyle).\n12:00 Age-Class Podiums\n11:45 BKL races \nRegistration Details\nOnline Registration Deadline: Saturday\, February 21\, 2026 at 5:00 PM ET\nDOR Registration: Adults ($50)\, U20 + WTH ($30)\, BKL ($20)\, BKL Lollipop Free   Cash\, check\, or Venmo preferred. \nPlease note that we are not holding a “What the Heck\, I’ll Try It” race this year. \nBKL Race Info\nBKL Races start at 11:45\n11:45 Lollipop (~0.3km classic only)\n12:00 Grades 1/2 (1km classic only)\n12:15 Grades 3/4 (1km classic + 1km freestyle)\n12:35 Grades 5/6 (1.5km classic + 1.5km freestyle)\n1:00 Grades 7/8 (2km classic + 2km freestyle) \nLots more race info and details over in the Notes Section on SkiReg.com \nRace Director: Christine Massey\, christine.massey@uvm.edu
URL:https://www.mansfieldnordic.org/event/mnc-skiathlon-6/
LOCATION:Sleepy Hollow Inn & Ski Center\, 427 Ski Lodge Dr\, Huntington\, VT\, 05462\, United States
CATEGORIES:BKL,Calendar,Juniors,Masters
END:VEVENT
BEGIN:VEVENT
DTSTART;TZID=America/New_York:20260219T154500
DTEND;TZID=America/New_York:20260219T171500
DTSTAMP:20260425T122115
CREATED:20260209T163509Z
LAST-MODIFIED:20260216T205651Z
UID:21388-1771515900-1771521300@www.mansfieldnordic.org
SUMMARY:BKL Last Practice Before February Break
DESCRIPTION:BKL Practice Schedule – Weekly Info
URL:https://www.mansfieldnordic.org/event/bkl-last-practice-before-february-break-2/
CATEGORIES:BKL,Calendar
END:VEVENT
BEGIN:VEVENT
DTSTART;TZID=America/New_York:20260210T163000
DTEND;TZID=America/New_York:20260210T193000
DTSTAMP:20260425T122115
CREATED:20260205T145935Z
LAST-MODIFIED:20260205T150250Z
UID:21382-1770741000-1770751800@www.mansfieldnordic.org
SUMMARY:Olympic Watch Party at Sleepy Hollow
DESCRIPTION:
URL:https://www.mansfieldnordic.org/event/olympic-watch-party-at-sleepy-hollow/
LOCATION:Sleepy Hollow Inn & Ski Center\, 427 Ski Lodge Dr\, Huntington\, VT\, 05462\, United States
CATEGORIES:BKL,Calendar,Juniors,Masters
END:VEVENT
BEGIN:VEVENT
DTSTART;TZID=America/New_York:20260207T170000
DTEND;TZID=America/New_York:20260207T190000
DTSTAMP:20260425T122115
CREATED:20260105T163955Z
LAST-MODIFIED:20260206T012050Z
UID:21308-1770483600-1770490800@www.mansfieldnordic.org
SUMMARY:Cancelled - Sleepy Hollow BKL Race and Fun!
DESCRIPTION:2/5 Update: Sleepy Hollow BKL is Cancelling  Saturday Night Lights BKL Event (2/7) due to the predicted cold temperatures and windchill and will not be rescheduling this season. We’ll try again for next year! \nThis is a classic race.   Event Info and Registraion \nRace Times: \n5:00 pm- Lollipop \n5:15 pm- Grades 1/2 \n5:45 pm- Grades ¾ \n6:15 pm- Grades 5/6 \n6:45 pm- Grades 7/8 \nSki Tour Scavenger Hunt: There will be punch cards at the registration table. Kids tour the lit ski trails\, punch cards at stations and return completed punch cards to the prize table in the meadow! Scavenger hunt will be open 4:00 pm to 7:30 pm\, and prize table will be open 5:30 to 7:30 pm. \nFun Park Speed Runs: The fun park will be open for kids to get timed and see how fast they can do the obstacles! Start/finish will be at the top of the triangle in the meadow. Timing will be open 5:00 pm to 7:00 pm. \nRace Technique & Course: Classic technique.
URL:https://www.mansfieldnordic.org/event/sleepy-hollow-bkl-race-and-fun/
LOCATION:Sleepy Hollow Inn & Ski Center\, 427 Ski Lodge Dr\, Huntington\, VT\, 05462\, United States
CATEGORIES:BKL,Calendar
END:VEVENT
BEGIN:VEVENT
DTSTART;TZID=America/New_York:20260119T100000
DTEND;TZID=America/New_York:20260119T150000
DTSTAMP:20260425T122115
CREATED:20260113T025659Z
LAST-MODIFIED:20260113T025659Z
UID:21330-1768816800-1768834800@www.mansfieldnordic.org
SUMMARY:VT State Ski Meister
DESCRIPTION:A rad event that takes place on Monday January 19th\, 2026. \nMore info and registration
URL:https://www.mansfieldnordic.org/event/vt-state-ski-meister/
CATEGORIES:BKL,Calendar
END:VEVENT
BEGIN:VEVENT
DTSTART;TZID=America/New_York:20260111T130000
DTEND;TZID=America/New_York:20260111T150000
DTSTAMP:20260425T122115
CREATED:20260105T162225Z
LAST-MODIFIED:20260105T162225Z
UID:21306-1768136400-1768143600@www.mansfieldnordic.org
SUMMARY:Mad River Scramble and Fun! BKL Race
DESCRIPTION:More Info and online registration \nThe Mad River BKL Scramble will take place at Blueberry Lake Cross Country Ski and Snowshoe Center.  This event will feature an age-based wave start freestyle race\, with the exception of lollipoppers and 1st/2nd graders\, who will ski classic ski.
URL:https://www.mansfieldnordic.org/event/mad-river-scramble-and-fun-bkl-race/
LOCATION:Blueberry Lake Cross Country Ski Center\, 424 Plunkton Road\, Warren\, VT\, 05674\, United States
CATEGORIES:BKL,Calendar
END:VEVENT
BEGIN:VEVENT
DTSTART;TZID=America/New_York:20260106T154500
DTEND;TZID=America/New_York:20260106T171500
DTSTAMP:20260425T122115
CREATED:20251217T184444Z
LAST-MODIFIED:20251217T185407Z
UID:21276-1767714300-1767719700@www.mansfieldnordic.org
SUMMARY:BKL Practice Resumes
DESCRIPTION:We get back into the swing of things with our regular Tues/Thurs practices. \nBKL Season Long Schedule
URL:https://www.mansfieldnordic.org/event/bkl-practice-resumes-2/
CATEGORIES:BKL,Calendar
END:VEVENT
BEGIN:VEVENT
DTSTART;TZID=America/New_York:20260104T080000
DTEND;TZID=America/New_York:20260104T170000
DTSTAMP:20260425T122115
CREATED:20251216T161739Z
LAST-MODIFIED:20260101T203936Z
UID:21271-1767513600-1767546000@www.mansfieldnordic.org
SUMMARY:Bogburn Ski Race 2026
DESCRIPTION:The Bogburn is for all skiers! Lollipop to Masters! \nCoaches will be there with MNC Tent and waxing. \nRegistration Info | Rikert Website Race Info | NENSA Website Race Info \nRegistration Closes at 5pm on Saturday\, January 3rd \nSee who else is registered to race \nClassic Race with Interval Start \n\nDistances: ~13 k for adult\, U16 7 k\, BKL: 7-8th 4km\, 5-6th 3km\, 1-4th 2km and of course Lollipop!\nOpen 13 k race scored to Zak Cup
URL:https://www.mansfieldnordic.org/event/bogburn-ski-race-2026/
LOCATION:Rikert  Nordic Center\, 106 College Cross Rd\, Ripton\, VT\, United States
CATEGORIES:BKL,Calendar,Juniors,Masters
END:VEVENT
BEGIN:VEVENT
DTSTART;TZID=America/New_York:20251223T154500
DTEND;TZID=America/New_York:20251223T171500
DTSTAMP:20260425T122115
CREATED:20251217T184226Z
LAST-MODIFIED:20251217T184248Z
UID:21273-1766504700-1766510100@www.mansfieldnordic.org
SUMMARY:Last Day of BKL Practice before Holiday Break
DESCRIPTION:Today is our last BKL practice before holiday break. We hope everyone has a chance to get outside and ski with family and friends over break. \nHere is the link to our Season Long Schedule
URL:https://www.mansfieldnordic.org/event/last-day-of-bkl-practice-before-holiday-break/
CATEGORIES:BKL,Calendar
END:VEVENT
BEGIN:VEVENT
DTSTART;TZID=America/New_York:20251209T180000
DTEND;TZID=America/New_York:20251209T193000
DTSTAMP:20260425T122115
CREATED:20251202T123517Z
LAST-MODIFIED:20251202T123517Z
UID:21255-1765303200-1765308600@www.mansfieldnordic.org
SUMMARY:EVENING Masters First Day
DESCRIPTION:Thurs\, December 4 – First Day of Afternoon Masters (Tomasi Meadow) \nTuesday\, December 9 – First day of Evening Masters (Sleepy Hollow) \nEarly season location is TBD\, depending on snow: check the Masters Weekly Schedule link for updates
URL:https://www.mansfieldnordic.org/event/evening-masters-first-day/
CATEGORIES:Calendar,Masters
END:VEVENT
BEGIN:VEVENT
DTSTART;TZID=America/New_York:20251209T154500
DTEND;TZID=America/New_York:20251209T171500
DTSTAMP:20260425T122115
CREATED:20251128T145021Z
LAST-MODIFIED:20251128T145021Z
UID:21239-1765295100-1765300500@www.mansfieldnordic.org
SUMMARY:First BKL Practice for Penguins Group
DESCRIPTION:location is TBD\, depending on snow \nCheck the BKL Weekly Schedule link for updates
URL:https://www.mansfieldnordic.org/event/first-bkl-practice-for-penguins-group/
CATEGORIES:BKL,Calendar
END:VEVENT
BEGIN:VEVENT
DTSTART;TZID=America/New_York:20251204T160000
DTEND;TZID=America/New_York:20251204T173000
DTSTAMP:20260425T122115
CREATED:20251128T145602Z
LAST-MODIFIED:20251204T122820Z
UID:21243-1764864000-1764869400@www.mansfieldnordic.org
SUMMARY:AFTERNOON Masters First Day
DESCRIPTION:Thurs\, December 4 – First Day of Afternoon Masters (Tomasi Meadow) \nTuesday\, December 9 – First day of Evening Masters (Sleepy Hollow) \nEarly season location is TBD\, depending on snow: check the Masters Weekly Schedule link for updates
URL:https://www.mansfieldnordic.org/event/masters-first-day-of-practice/
CATEGORIES:Calendar,Masters
END:VEVENT
BEGIN:VEVENT
DTSTART;TZID=America/New_York:20251204T154500
DTEND;TZID=America/New_York:20251204T171500
DTSTAMP:20260425T122115
CREATED:20251128T145313Z
LAST-MODIFIED:20251128T145313Z
UID:21241-1764863100-1764868500@www.mansfieldnordic.org
SUMMARY:BKL First Day of Practice
DESCRIPTION:Thurs\, December 4 – First Day of Practice for JackRabbits\, Arctic Foxes\, Racers and Devos \nlocation is TBD\, depending on snow \nCheck the BKL Weekly Schedule link for updates
URL:https://www.mansfieldnordic.org/event/bkl-first-day-of-practice-2/
CATEGORIES:BKL,Calendar
END:VEVENT
BEGIN:VEVENT
DTSTART;TZID=America/New_York:20251201T190000
DTEND;TZID=America/New_York:20251201T200000
DTSTAMP:20260425T122115
CREATED:20251128T134050Z
LAST-MODIFIED:20251128T134050Z
UID:21237-1764615600-1764619200@www.mansfieldnordic.org
SUMMARY:BKL Parent Meeting (virtual)
DESCRIPTION:Join us for our virtual parent meeting to get ready for the ski season. A link for this meeting will be shared via email to everyone that is registered for our BKL programs.
URL:https://www.mansfieldnordic.org/event/bkl-parent-meeting-virtual/
CATEGORIES:BKL,Calendar
END:VEVENT
BEGIN:VEVENT
DTSTART;TZID=America/New_York:20251130T140000
DTEND;TZID=America/New_York:20251130T153000
DTSTAMP:20260425T122115
CREATED:20251117T192207Z
LAST-MODIFIED:20251117T192207Z
UID:21228-1764511200-1764516600@www.mansfieldnordic.org
SUMMARY:Coaches Clinic / Masters Ski Day @ Craftsbury
DESCRIPTION:Join us on Sunday\, November 30th for a ski day in Craftsbury! \nThanksgiving Camp for the Juniors will have just finished-up\, so the team trailer will be on-site for skiers to have some kickwaxing assistance for classic (skating is welcome too!). \nCoaches Clinic \nCoaches of all programs (BKL\, Juniors\, Masters) are encouraged to meet at the trailer at 2pm to meet with Coach Adam and Coach Liz to spend some time reviewing drills\, activities\, goals\, and more! \nMasters Ski \nMasters are encouraged to meet in the lower field at 2pm for a group ski! A bench will be set up for some kickwax help if classic skiing\, and skate skiing is of course welcome too! \nOne way or another\, it’s likely we’ll all end up spending some time getting to meet and ski with fellow club members! Don’t forget either a Craftsbury day pass\, or make sure to purchase your season pass for 25/26.
URL:https://www.mansfieldnordic.org/event/coaches-clinic-masters-ski-day-craftsbury/
CATEGORIES:Calendar,Masters
END:VEVENT
BEGIN:VEVENT
DTSTART;VALUE=DATE:20251125
DTEND;VALUE=DATE:20251201
DTSTAMP:20260425T122115
CREATED:20240910T170953Z
LAST-MODIFIED:20251201T123420Z
UID:19739-1764028800-1764547199@www.mansfieldnordic.org
SUMMARY:Junior Thanksgiving Camp 2025
DESCRIPTION:Join MNC for a week of on-snow skiing at the Craftsbury Outdoor Center from November 25 – 30th. \nKick off winter with team time\, technique work\, group intensity sessions\, and what is often the first groomed skiing of the new season. \n \n  \nBeginning Tuesday\, November 25th our group meets up at Craftsbury where snow has been stored since last winter. \nThe groomers and crew at the center put in an amazing effort to truck all that snow out for us to ski on during the week. We often share the loop with EISA college teams like Williams\, UNH\, UVM\, and Harvard\, as well as fellow NENSA clubs like EMXC. We train for 6 days/5 nights\, equal to a full typical training week (Tues – Sun). \nWe do a lot of skiing\, but also make space for strength sessions in the indoor gym\, movies and presentations in the big basement room in Cedar Lodge\, team activities and games\, and usually wake up early to watch the first World Cup of the season live from Finland! \nCamp cost is $749 and includes: \n\nCoaching compensation and overhead\nLodging for 6 days/5 nights at Craftsbury Outdoor Center\nAll daily meals at the Craftsbury dining hall\nGroup Thanksgiving Dinner put on by Craftsbury \nTrail passes for the week of skiing\nIndoor gym access for strength sessions\nEntry in end-of-week timetrial\nWax and tools for training sessions\n2025 version of camp interval t-shirt\nCamp training gear from Toko\n\nRegistration is available at the link below. Our camp will be full at 14 athletes\, but skiers may be added to a waiting list! \nThanksgiving Camp 2025
URL:https://www.mansfieldnordic.org/event/thanksgiving-camp-2024/
LOCATION:Craftsbury Outdoor Center\, 555 Lost Nation Rd\, Craftsbury Common\, VT\, 05827\, United States
CATEGORIES:Calendar,Juniors
END:VEVENT
BEGIN:VEVENT
DTSTART;TZID=America/New_York:20251121T154500
DTEND;TZID=America/New_York:20251121T164500
DTSTAMP:20260425T122115
CREATED:20251121T171957Z
LAST-MODIFIED:20251121T171957Z
UID:21232-1763739900-1763743500@www.mansfieldnordic.org
SUMMARY:BKL Fun Fall Friday #2
DESCRIPTION:We’ll play games\, hike\, do some dryland ski practice and get outside for some exercise. It’s a great chance to meet coaches\, other skiers and parents. These days are for parents and kids. Everyone is encouraged to join the groups! \nLet us know if you are coming. \nFriday\, November 14 at Mills Riverside Park\, Rt. 15\, Jericho \nFriday November 21 at Mills Riverside Park\, Rt. 15\, Jericho \n*in the past we have done 3\, but this year it’s 2 Fun Fall Fridays \nTime: 3:45 to 4:45. Bring your headlamp! Wear sneakers and layers. \nFun Fall Fridays are free and completely optional.
URL:https://www.mansfieldnordic.org/event/bkl-fun-fall-friday-2-2/
LOCATION:Mills Riverside Park\, Route 15\, Underhill\, VT\, 05489\, United States
CATEGORIES:BKL,Calendar
END:VEVENT
BEGIN:VEVENT
DTSTART;TZID=America/New_York:20251116T093000
DTEND;TZID=America/New_York:20251116T170000
DTSTAMP:20260425T122115
CREATED:20251013T204705Z
LAST-MODIFIED:20251016T022354Z
UID:21098-1763285400-1763312400@www.mansfieldnordic.org
SUMMARY:Tomasi Meadow Trot
DESCRIPTION:Registration \nVolunteer
URL:https://www.mansfieldnordic.org/event/tomasi-meadow-trot-3/
CATEGORIES:BKL,Calendar,Juniors,Masters
END:VEVENT
BEGIN:VEVENT
DTSTART;TZID=America/New_York:20251114T180000
DTEND;TZID=America/New_York:20251114T210000
DTSTAMP:20260425T122115
CREATED:20251028T132026Z
LAST-MODIFIED:20251028T132920Z
UID:21155-1763143200-1763154000@www.mansfieldnordic.org
SUMMARY:Masters Social @ Queen City Brewery
DESCRIPTION:Friday November 14th from 6-9PM \nQueen City Brewery / Pizza 44 \nMark your calendar for our fun annual Master’s Social.   Come meet the coaches\, hear about plans for the new season\, and get psyched for winter with MNC friends\, new and old. \nFamily and friends interested in joining the club\, or learning more about our programs\, are welcome and encouraged to attend. Please share the MNC spirit and energy! \nThis year we will also be honoring two departing board members who have masterfully steered the MNC ship for more than a decade:  former president Kort Longenbach and former treasurer Ken Bruce. \nThe event space at Queen City Brewery (703 Pine Street in Burlington) is reserved for our group\, with free pizza for guests and beverages available for purchase.  Don’t miss the fun!
URL:https://www.mansfieldnordic.org/event/masters-social-queen-city-brewery/
LOCATION:Queen City Brewery\, 703-B Pine Street\, Burlington\, VT
CATEGORIES:Calendar,Masters
END:VEVENT
BEGIN:VEVENT
DTSTART;TZID=America/New_York:20251114T154500
DTEND;TZID=America/New_York:20251114T164500
DTSTAMP:20260425T122115
CREATED:20251110T161630Z
LAST-MODIFIED:20251121T172025Z
UID:21173-1763135100-1763138700@www.mansfieldnordic.org
SUMMARY:BKL Fun Fall Friday #1
DESCRIPTION:*Friday Update:  This week we have some snow! We are hoping to do a little skiing around on the soccer fields. But conditions might change through the day as things warm up. Bring sneakers and ski equipment (no wax classic or rock skis if you’ve got ’em) and coaches will let you know we’re going to do. \nWe’ll play games\, hike\, do some dryland ski practice and get outside for some exercise. It’s a great chance to meet coaches\, other skiers and parents. These days are for parents and kids. Everyone is encouraged to join the groups! \nLet us know if you are coming. \nFriday\, November 14 at Mills Riverside Park\, Rt. 15\, Jericho \nFriday November 21 at Mills Riverside Park\, Rt. 15\, Jericho \n*in the past we have done 3\, but this year it’s 2 Fun Fall Fridays \nTime: 3:45 to 4:45. Bring your headlamp! Wear sneakers and layers. \nFun Fall Fridays are free and completely optional.
URL:https://www.mansfieldnordic.org/event/bkl-fun-fall-friday-1/
LOCATION:Mills Riverside Park\, Route 15\, Underhill\, VT\, 05489\, United States
CATEGORIES:BKL,Calendar
END:VEVENT
BEGIN:VEVENT
DTSTART;TZID=America/New_York:20251025T160000
DTEND;TZID=America/New_York:20251025T190000
DTSTAMP:20260425T122115
CREATED:20250731T182417Z
LAST-MODIFIED:20251025T112043Z
UID:20900-1761408000-1761418800@www.mansfieldnordic.org
SUMMARY:4th Annual MNC Ski and Gear Swap (drop-off day)
DESCRIPTION:Check out the Gear Swap page for all the info!  \nGear drop-off is Saturday\, October 25th 4-7pm \nSale is Sunday\, October 26th noon-4pm
URL:https://www.mansfieldnordic.org/event/4th-annual-mnc-ski-and-gear-swap/
LOCATION:Community Center Jericho
CATEGORIES:BKL,Calendar,Juniors,Masters
END:VEVENT
BEGIN:VEVENT
DTSTART;TZID=America/New_York:20251024T180000
DTEND;TZID=America/New_York:20251024T220000
DTSTAMP:20260425T122115
CREATED:20250914T103303Z
LAST-MODIFIED:20250922T194202Z
UID:20987-1761328800-1761343200@www.mansfieldnordic.org
SUMMARY:Mansfield Nordic Pro HALLOWEEN BALL 2025
DESCRIPTION:Put on your best costume and bring an appetite (for food and dancing) as the Pro Team hosts the first-ever Halloween Ball! Featuring food\, prizes\, raffles\, dancing\, a DJ\, and an all-around good time up in Huntington! \nJoin us at the beautiful 7th Seed retreat in Huntington. Thank you to the longtime MNC members\, the Bowen family\, for their gracious hosting of this event at their space! \nDinner! \nThe athletes and advisory board of the Pro Team will be cooking and serving up delicions food\, snacks\, and salads. Please BYOB! \nRaffle! \nYour chance to win awesome ski prizes like World Cup race bibs\, Toko gear\, Swix gloves\, Pro Team apparel\, and more! \nSilent Auction! \nWant to bid on an amazing trip to the Methow Valley\, trail passes\, beautiful paintings\, and more? You won’t want to miss a bid here! \n Meet the Team! \nGet to know the Pro Team athletes\, their experiences and goals\, and their training leading into the race season. \nCostume contest! \nChange into your constume for the contest\, or just rock your fit all night! Prizes for categories like most creative\, most “nordic”\, scariest\, etc. \nDance Party! \nTurntables spun by MNC and UVM skiing alum DJ Aidan Burt. Hope you’ll get into the spirit! \nPURCHASE TICKETS HERE
URL:https://www.mansfieldnordic.org/event/mansfield-nordic-pro-halloween-ball-2025/
LOCATION:7th seed\, 609 Delfrate Rd\, Huntington\, VT\, 05462\, United States
CATEGORIES:BKL,Calendar,Juniors,Masters
END:VEVENT
BEGIN:VEVENT
DTSTART;TZID=America/New_York:20250930T080000
DTEND;TZID=America/New_York:20250930T170000
DTSTAMP:20260425T122115
CREATED:20250915T133744Z
LAST-MODIFIED:20250915T133820Z
UID:20992-1759219200-1759251600@www.mansfieldnordic.org
SUMMARY:Skis Due for Stone Grinding
DESCRIPTION:Check out the blog post here for all the information you need on stone grinding. \n  \n 
URL:https://www.mansfieldnordic.org/event/skis-due-for-stone-grinding/
CATEGORIES:BKL,Calendar,Juniors,Masters
END:VEVENT
END:VCALENDAR