BEGIN:VCALENDAR
VERSION:2.0
PRODID:-//Mansfield Nordic Club - ECPv6.15.13//NONSGML v1.0//EN
CALSCALE:GREGORIAN
METHOD:PUBLISH
X-WR-CALNAME:Mansfield Nordic Club
X-ORIGINAL-URL:https://www.mansfieldnordic.org
X-WR-CALDESC:Events for Mansfield Nordic Club
REFRESH-INTERVAL;VALUE=DURATION:PT1H
X-Robots-Tag:noindex
X-PUBLISHED-TTL:PT1H
BEGIN:VTIMEZONE
TZID:America/New_York
BEGIN:DAYLIGHT
TZOFFSETFROM:-0500
TZOFFSETTO:-0400
TZNAME:EDT
DTSTART:20130310T070000
END:DAYLIGHT
BEGIN:STANDARD
TZOFFSETFROM:-0400
TZOFFSETTO:-0500
TZNAME:EST
DTSTART:20131103T060000
END:STANDARD
BEGIN:DAYLIGHT
TZOFFSETFROM:-0500
TZOFFSETTO:-0400
TZNAME:EDT
DTSTART:20140309T070000
END:DAYLIGHT
BEGIN:STANDARD
TZOFFSETFROM:-0400
TZOFFSETTO:-0500
TZNAME:EST
DTSTART:20141102T060000
END:STANDARD
BEGIN:DAYLIGHT
TZOFFSETFROM:-0500
TZOFFSETTO:-0400
TZNAME:EDT
DTSTART:20150308T070000
END:DAYLIGHT
BEGIN:STANDARD
TZOFFSETFROM:-0400
TZOFFSETTO:-0500
TZNAME:EST
DTSTART:20151101T060000
END:STANDARD
BEGIN:DAYLIGHT
TZOFFSETFROM:-0500
TZOFFSETTO:-0400
TZNAME:EDT
DTSTART:20160313T070000
END:DAYLIGHT
BEGIN:STANDARD
TZOFFSETFROM:-0400
TZOFFSETTO:-0500
TZNAME:EST
DTSTART:20161106T060000
END:STANDARD
END:VTIMEZONE
BEGIN:VEVENT
DTSTART;VALUE=DATE:20150320
DTEND;VALUE=DATE:20150323
DTSTAMP:20260426T001419
CREATED:20141125T220356Z
LAST-MODIFIED:20141125T220356Z
UID:4298-1426809600-1427068799@www.mansfieldnordic.org
SUMMARY:NENSA Eastern High School Championships
DESCRIPTION:Save the date for the 2015 Eastern HS Championships @ Black Mountain!
URL:https://www.mansfieldnordic.org/event/nensa-eastern-high-school-championships/
LOCATION:Black Mountain Ski Resort\, 39 Glover Rd\, Rumfrod\, ME\, 04276
CATEGORIES:Calendar,Juniors
END:VEVENT
BEGIN:VEVENT
DTSTART;TZID=America/New_York:20150319T173000
DTEND;TZID=America/New_York:20150319T190000
DTSTAMP:20260426T001419
CREATED:20150315T120844Z
LAST-MODIFIED:20150315T120844Z
UID:4779-1426786200-1426791600@www.mansfieldnordic.org
SUMMARY:EABC Nordic Sprints
DESCRIPTION:
URL:https://www.mansfieldnordic.org/event/eabc-nordic-sprints/
LOCATION:Ethan Allen Training Facility\, 113 Ethan Allen Rd.\, Jericho\, VT\, 05465\, United States
CATEGORIES:BKL,Calendar,Juniors,Masters
END:VEVENT
BEGIN:VEVENT
DTSTART;TZID=America/New_York:20150315T100000
DTEND;TZID=America/New_York:20150315T130000
DTSTAMP:20260426T001419
CREATED:20141123T175126Z
LAST-MODIFIED:20141123T175126Z
UID:4256-1426413600-1426424400@www.mansfieldnordic.org
SUMMARY:Cochran's Nordic Cross Event
DESCRIPTION:Second Annual Cochran’s Nordic X\n\nA fun\, festive\, and competitive citizens Nordic Ski Cross Race for all ages.\nUphill\, downhill\, slalom gates\, jumps\, and obstacles\, all on one pair of skis.\nSpectator friendly!  Don’t want to race?  Come watch the fun and eat pancakes with hot Slopeside Syrup.\nInterval start.  Seeding based on ability\, age and sex.  Shorter course for kids\, 12yr. and under.\nPrizes for top three in all age and ability categories.\nCost:  Adults $30 preregistered by March 2nd online here or $40 after March 2nd and same day.  Kids $10 (12yr. & under). Includes entry fee\, headband and pancake sausage feast with Slopeside Syrup.\nStart Time: 10am Kids and 11am Adults
URL:https://www.mansfieldnordic.org/event/cochrans-nordic-cross-event/
LOCATION:Cochran’s Ski Area\, 910 Cochran Rd\, Richmond\, VT\, 05477
CATEGORIES:BKL,Calendar,Juniors,Masters
END:VEVENT
BEGIN:VEVENT
DTSTART;VALUE=DATE:20150313
DTEND;VALUE=DATE:20150316
DTSTAMP:20260426T001419
CREATED:20141125T220153Z
LAST-MODIFIED:20141125T220436Z
UID:4296-1426204800-1426463999@www.mansfieldnordic.org
SUMMARY:NENSA U16 Championships
DESCRIPTION:Save the date for this year’s U16 (formerly J2) Championships!
URL:https://www.mansfieldnordic.org/event/nensa-u16-championships/
LOCATION:10th Mountain Outdoor Club\, 33 Paradis Circle\, Fort Kent\, ME
CATEGORIES:Calendar,Juniors
END:VEVENT
BEGIN:VEVENT
DTSTART;TZID=America/New_York:20150222T100000
DTEND;TZID=America/New_York:20150222T160000
DTSTAMP:20260426T001419
CREATED:20141123T012348Z
LAST-MODIFIED:20150215T200034Z
UID:4255-1424599200-1424620800@www.mansfieldnordic.org
SUMMARY:VT U16 / EHSC Qualifier
DESCRIPTION:To register go to: http://www.skireg.com/vermontehscu16qualifier
URL:https://www.mansfieldnordic.org/event/vt-u16-ehsc-qualifier/
LOCATION:Craftsbury Outdoor Center\, 555 Lost Nation Rd\, Craftsbury Common\, VT\, 05827\, United States
CATEGORIES:Calendar,Juniors
END:VEVENT
BEGIN:VEVENT
DTSTART;TZID=America/New_York:20150222T080000
DTEND;TZID=America/New_York:20150222T170000
DTSTAMP:20260426T001419
CREATED:20141101T173121Z
LAST-MODIFIED:20141101T173121Z
UID:4143-1424592000-1424624400@www.mansfieldnordic.org
SUMMARY:Stowe Derby
DESCRIPTION:
URL:https://www.mansfieldnordic.org/event/stowe-derby/
LOCATION:Stowe Mountain Resort\, 5781 Mountain Rd\, Stowe\, VT\, 05672\, United States
CATEGORIES:Calendar,Juniors,Masters
END:VEVENT
BEGIN:VEVENT
DTSTART;VALUE=DATE:20150215
DTEND;VALUE=DATE:20150216
DTSTAMP:20260426T001419
CREATED:20141211T000130Z
LAST-MODIFIED:20141211T000248Z
UID:4402-1423958400-1424044799@www.mansfieldnordic.org
SUMMARY:Eastern Cup #4 @ Holderness NH
DESCRIPTION:Holderness School will host the second day of the February 14-15 Eastern Cup weekend and the final race of this year’s series.
URL:https://www.mansfieldnordic.org/event/eastern-cup-4-holderness-nh/
LOCATION:Holderness School\, Chapel Ln\, Plymouth\, NH\, 03264
CATEGORIES:Calendar,Juniors,Masters
END:VEVENT
BEGIN:VEVENT
DTSTART;VALUE=DATE:20150214
DTEND;VALUE=DATE:20150215
DTSTAMP:20260426T001419
CREATED:20141017T004624Z
LAST-MODIFIED:20150208T235459Z
UID:4011-1423872000-1423958399@www.mansfieldnordic.org
SUMMARY:Eastern Cup #4 @ Hanover NH
DESCRIPTION:Final weekend of Eastern Cups. First day @ Hanover\, NH. 2nd day hosted by Holderness school in Plymouth\, NH. Visit NENSA calendar for full details. \nGiven that there are almost no facilities at Oak Hill Nordic Trails\, Hanover\, NH (Sat Feb 14)\, I am hoping that we can tailgate there as well.  Please use the signup sheet if you can bring something:\nwww.SignUpGenius.com/go/20F0E48ABA928A3F85-silver If you still need a hotel reservation for Sat Feb 14\, the popular spot seems to be Days Inn Campton (603 536-3520) for Sat Feb 14. \nWe will be having a team dinner that night\, Sat Feb 14\, 6 pm at The Country Cow Restaurant at Blair Bridge\, 57 Blair Rd.\, Campton NH\,(603) 536-1331. ($25/person with tax & gratuity)\nBy Wednesday (Feb 11)\, email Sharon Henry at  to let her know you entrée choice – thanks. Choice of: \n\nBroiled or Fried Fresh Haddock\nChicken Parmesan over linguine\nTop Sirloin Steak with mushrooms and onions\nVegetarian orcchietta pasta with sundried tomato pesto and portabella mushrooms\n\nDessert Soda/non alcoholic drink $25 per person (tax and gratuity included) – exact change very helpful
URL:https://www.mansfieldnordic.org/event/eastern-cup-4-hanoverholderness-nh/
LOCATION:Oak Hill Nordic Trails\, Hanover\, NH
CATEGORIES:Calendar,Juniors,Masters
END:VEVENT
BEGIN:VEVENT
DTSTART;TZID=America/New_York:20150210T044500
DTEND;TZID=America/New_York:20150210T190000
DTSTAMP:20260426T001419
CREATED:20150208T221807Z
LAST-MODIFIED:20150208T222133Z
UID:4615-1423543500-1423594800@www.mansfieldnordic.org
SUMMARY:SPECIAL EVENT:  Ski with 2x National Champ Jennie Bender!!
DESCRIPTION:Greetings gals & parents:\nI’m excited to announce/remind all of you of an excellent opportunity to ski with 2x National Champion Jennie Bender! This Tuesday (2/10) Jennie will do a “celebrity guest” coaching appearance and lead a brief — but awesome — gals-only ski at the Range. \n\nWe’ll kick things off at 4:45pm with a quick intro and then Jennie will take the gals out on a fast ‘n fun ski with a focus on gaining some confidence on hills and corners. \n\nWe’ve arranged this opportunity to be late in the afternoon so that high school skiers can participate. Coach Barker\, Coach Allison and Coach Enman are all aware of this opportunity so do not miss out! \n\nNo RSVP necessary but I would really like to see all of you MNC girls attend this special session.\nPlease email Tim at  with any questions!
URL:https://www.mansfieldnordic.org/event/special-event-ski-with-2x-national-champ-jennie-bender/
LOCATION:Ethan Allen Training Facility\, 113 Ethan Allen Rd.\, Jericho\, VT\, 05465\, United States
CATEGORIES:Calendar,Juniors
END:VEVENT
BEGIN:VEVENT
DTSTART;VALUE=DATE:20150207
DTEND;VALUE=DATE:20150209
DTSTAMP:20260426T001419
CREATED:20141017T004453Z
LAST-MODIFIED:20141210T235144Z
UID:4010-1423267200-1423439999@www.mansfieldnordic.org
SUMMARY:Eastern Cup #3 @ Craftsbury
DESCRIPTION:Eastern cup weekend #3 at Craftsbury. See NENSA calendar for full details
URL:https://www.mansfieldnordic.org/event/eastern-cup-3-craftsbury/
LOCATION:Craftsbury Outdoor Center\, 555 Lost Nation Rd\, Craftsbury Common\, VT\, 05827\, United States
CATEGORIES:Calendar,Juniors
END:VEVENT
BEGIN:VEVENT
DTSTART;TZID=America/New_York:20150201T160000
DTEND;TZID=America/New_York:20150201T200000
DTSTAMP:20260426T001419
CREATED:20141020T014605Z
LAST-MODIFIED:20141206T133611Z
UID:4025-1422806400-1422820800@www.mansfieldnordic.org
SUMMARY:Ski & Dinner to Honor Murray & Jane Banks (at Sleepy Hollow)
DESCRIPTION:The Banks have moved to Colorado to be close to family and enjoy the mountain environment of Crested Butte.  We have invited them back for one more chance to ski and party!  We hope that you will join us to thank them for their work with the many children\, teens and adults who have skied with Mansfield Nordic over the years.  For details please find an invitation below.  If you didn’t receive an evite please contact Jennifer Supple at jssupple@gmail.com. \nMNC Banks Party Invitation
URL:https://www.mansfieldnordic.org/event/ski-dinner-to-honor-murray-jane-banks-at-sleepy-hollow/
LOCATION:Sleepy Hollow Inn & Ski Center\, 427 Ski Lodge Dr\, Huntington\, VT\, 05462\, United States
CATEGORIES:BKL,Calendar,Juniors,Masters
END:VEVENT
BEGIN:VEVENT
DTSTART;TZID=America/New_York:20150128T180000
DTEND;TZID=America/New_York:20150128T200000
DTSTAMP:20260426T001419
CREATED:20150122T134517Z
LAST-MODIFIED:20150122T134517Z
UID:4526-1422468000-1422475200@www.mansfieldnordic.org
SUMMARY:Toko Wax Clinic for Craftsbury Marathon
DESCRIPTION:For those interested\, Dave Boucher will be doing a “hands on” wax clinic at the SkiRack in Burlington at 6PM.  Bring your skis\, tools\, and wax to the clinic.
URL:https://www.mansfieldnordic.org/event/toko-wax-clinic-for-craftsbury-marathon/
LOCATION:Skirack\, 85 Main Street\, Burlington\, VT\, 05401\, United States
CATEGORIES:BKL,Calendar,Juniors,Masters
END:VEVENT
BEGIN:VEVENT
DTSTART;TZID=America/New_York:20150125T100000
DTEND;TZID=America/New_York:20150125T140000
DTSTAMP:20260426T001419
CREATED:20141219T044011Z
LAST-MODIFIED:20150117T125154Z
UID:4425-1422180000-1422194400@www.mansfieldnordic.org
SUMMARY:BONUS EVENT - Crafstbury Marathon Pre-Race Recon Tour
DESCRIPTION:If you or racing\, thinking of racing or just want to have a good long ski\, please  join St Lawrence Nordic Ski Coach Adam Terko and former MNC coach Murray Banks for a tour of the Craftsbury Marathon course.   This will be a great chance to familiarize yourself with the course\, get wax advice and practice skiing the various terrain features.   After the tour\, enjoy lunch with teammates and then cheer on our BKL skiers in their annual Duathlon. \nTo confirm your spot\, email murray@murraybanks.com –    “I’m in for the tour!” by 1/23 \nSchedule: \n9:00 meet at touring center for trail pass and waxing tips \n9:30 skis on \n11:00-12:00 lunch with teammates \n1:00 BKL Races begin \n  \n 
URL:https://www.mansfieldnordic.org/event/crafstbury-marathon-course-inspection/
LOCATION:Craftsbury Outdoor Center\, 555 Lost Nation Rd\, Craftsbury Common\, VT\, 05827\, United States
CATEGORIES:BKL,Calendar,Juniors,Masters
END:VEVENT
BEGIN:VEVENT
DTSTART;VALUE=DATE:20150117
DTEND;VALUE=DATE:20150119
DTSTAMP:20260426T001419
CREATED:20141017T004320Z
LAST-MODIFIED:20141210T234947Z
UID:4009-1421452800-1421625599@www.mansfieldnordic.org
SUMMARY:Eastern Cup #2 @ Rumford\, ME
DESCRIPTION:Eastern cup weekend #2 in Rumford\, ME. See NENSA calendar for details
URL:https://www.mansfieldnordic.org/event/eastern-cup-2-rumford-me/
LOCATION:Black Mountain Ski Resort\, 39 Glover Rd\, Rumfrod\, ME\, 04276
CATEGORIES:Calendar,Juniors
END:VEVENT
BEGIN:VEVENT
DTSTART;TZID=America/New_York:20150110T100000
DTEND;TZID=America/New_York:20150110T140000
DTSTAMP:20260426T001419
CREATED:20141101T171350Z
LAST-MODIFIED:20150104T230507Z
UID:4137-1420884000-1420898400@www.mansfieldnordic.org
SUMMARY:Bogburn Classic
DESCRIPTION:Bogburn Classic Race is ON!!! Just received a message from the Haydock’s.  The snow held up in N. Pomfret so make sure you sign up for the race on Saturday. https://www.nensa.net/calendar/index.php?id=1647 Photos of the trails are posted on their Facebook page at https://www.facebook.com/pages/Bogburn-Cross-Country-Ski-Race/177290886373
URL:https://www.mansfieldnordic.org/event/bogburn-classic/
LOCATION:Bogburn Classic\, 1051 Skyline Dr\, North Pomfret\, VT\, United States
CATEGORIES:BKL,Calendar,Juniors,Masters
END:VEVENT
BEGIN:VEVENT
DTSTART;TZID=America/New_York:20141230T080000
DTEND;TZID=America/New_York:20141230T170000
DTSTAMP:20260426T001419
CREATED:20141101T171123Z
LAST-MODIFIED:20141125T223220Z
UID:4136-1419926400-1419958800@www.mansfieldnordic.org
SUMMARY:MNC Club Holiday Ski at Craftsbury
DESCRIPTION:Come joins us for a fun club ski – timing & details tbd.
URL:https://www.mansfieldnordic.org/event/mnc-club-holiday-ski-at-craftsbury/
LOCATION:Craftsbury Outdoor Center\, 555 Lost Nation Rd\, Craftsbury Common\, VT\, 05827\, United States
CATEGORIES:BKL,Calendar,Juniors,Masters
END:VEVENT
BEGIN:VEVENT
DTSTART;TZID=America/New_York:20141228T170000
DTEND;TZID=America/New_York:20141228T220000
DTSTAMP:20260426T001419
CREATED:20141123T180412Z
LAST-MODIFIED:20141226T151511Z
UID:4262-1419786000-1419804000@www.mansfieldnordic.org
SUMMARY:CANCELED - Annual Juniors Sledding Party at Henry/Solow's
DESCRIPTION:Unfortunately we will need to cancel the sledding party scheduled for Sunday (12/28)  due to the lack of snow! We’ll see if we can find another time provided the weather cooperates. Hope you’re all having a great holiday break. \n  \n  \n  \n 
URL:https://www.mansfieldnordic.org/event/annual-junniors-sledding-party-at-henrysolows/
LOCATION:Henry/Solow’s\, 209 Coyote Ridge Rd \, Hinesburg\, 05661
CATEGORIES:Calendar,Juniors
END:VEVENT
BEGIN:VEVENT
DTSTART;TZID=America/New_York:20141228T080000
DTEND;TZID=America/New_York:20141228T130000
DTSTAMP:20260426T001419
CREATED:20141125T213711Z
LAST-MODIFIED:20141222T140442Z
UID:4293-1419753600-1419771600@www.mansfieldnordic.org
SUMMARY:Santa's Revenge and Resolution Relays
DESCRIPTION:Burn off those Holiday Calories and Resolve to ski more at this year’s Santa’s Revenge and Resolution Santa’s Relays. Santa’s Revenge will be a Freestyle 5-10km race (depending on conditions). The Resolution Relays will be informal 4X2km relays. 600m Lollipop at 9:00am\, 2km BKL to follow\, Open Race to follow. Resolution Relay will follow the completion of all events\, bring a team or join one at the event.
URL:https://www.mansfieldnordic.org/event/4293/
LOCATION:Sleepy Hollow Inn & Ski Center\, 427 Ski Lodge Dr\, Huntington\, VT\, 05462\, United States
CATEGORIES:BKL,Calendar,Juniors,Masters
END:VEVENT
BEGIN:VEVENT
DTSTART;TZID=America/New_York:20141226T100000
DTEND;TZID=America/New_York:20141226T150000
DTSTAMP:20260426T001419
CREATED:20141101T171005Z
LAST-MODIFIED:20141224T015314Z
UID:4134-1419588000-1419606000@www.mansfieldnordic.org
SUMMARY:Family Ski at Trapps
DESCRIPTION:Join MNC Coaches for a Fun family Ski at Trapps.  This won’t be a structured ski practice\,  but just a chance for MNC families and coaches (all ages) to meet up for fun day on the trails and burn off some of those Christmas cookies. \n\nDiscounted tickets are available:  $19 for Adults & $7 for children of all ages\nWe will have informal groups based on ability/speed and will ask parents to ski with their kids if they cannot keep up with any of the groups so know one gets lost.\nMeet around 10AM at the Yurt.\nPlease e-mail Rick at rtcostanza@gmail.com with the number attending in your family prior to 12/26.
URL:https://www.mansfieldnordic.org/event/tour-de-trapp/
LOCATION:Trapp Family Lodge\, 700 Trapp Hill Rd\, Stowe\, VT\, 05672\, United States
CATEGORIES:BKL,Calendar,Juniors,Masters
END:VEVENT
BEGIN:VEVENT
DTSTART;VALUE=DATE:20141220
DTEND;VALUE=DATE:20141222
DTSTAMP:20260426T001419
CREATED:20141017T004220Z
LAST-MODIFIED:20141210T234421Z
UID:4008-1419033600-1419206399@www.mansfieldnordic.org
SUMMARY:Eastern Cup #1 @ Breadloaf
DESCRIPTION:Event\nEastern cup #1 at Breadloaf (Middlebury). See NENSA website link below registration and for details. \nMNC Team Tent\nAlso\, Thanks to Gary Richter/Lisa Akins we can have a separate tent for gathering and for our food table which will be next to the wax tent; they will also bring a generator and portable fire pit! Please sign up for the potluck at: \nwww.SignUpGenius.com/go/20F0E48ABA928A3F85-rikertbreadloaf \n 
URL:https://www.mansfieldnordic.org/event/eastern-cup-1-breadloaf/
LOCATION:Rikert  Nordic Center\, 106 College Cross Rd\, Ripton\, VT\, United States
CATEGORIES:BKL,Calendar,Juniors
END:VEVENT
BEGIN:VEVENT
DTSTART;VALUE=DATE:20141211
DTEND;VALUE=DATE:20141212
DTSTAMP:20260426T001419
CREATED:20141113T020237Z
LAST-MODIFIED:20141202T000855Z
UID:4202-1418256000-1418342399@www.mansfieldnordic.org
SUMMARY:Last Day to Order MNC Skida Hats & Headbands
DESCRIPTION:We recently decided to offer the lined Alpine Hat in addition to a lightweight Nordic hat and headband.  Each hat or headband will also include an embroidered MNC label.  To order\, download the form below and follow the payment instructions.  Any questions please contact L_Samuels@yahoo.com. \nMansfield Nordic Skida Team Hat for ’14-15. Order Form
URL:https://www.mansfieldnordic.org/event/last-day-to-order-mnc-skida-hats-headbands/
CATEGORIES:BKL,Calendar,Juniors,Masters
END:VEVENT
BEGIN:VEVENT
DTSTART;VALUE=DATE:20141210
DTEND;VALUE=DATE:20141211
DTSTAMP:20260426T001419
CREATED:20141115T133429Z
LAST-MODIFIED:20141124T004223Z
UID:4219-1418169600-1418255999@www.mansfieldnordic.org
SUMMARY:Toko Wax Orders - Last Day
DESCRIPTION:Last day to submit Toko Wax orders. For more information please contact davidnboucher@comcast.net. \nPlease see eBlast #5  or the link below for the order form \, once completed e-mail the form to Dave by 12/10.  Your wax order will be available to be picked at the Ski Rack on 12/19. Pay the Ski Rack when you pick up the order. \nRSNordic+team+2014-15
URL:https://www.mansfieldnordic.org/event/toko-wax-orders-last-day/
CATEGORIES:BKL,Calendar,Juniors,Masters
END:VEVENT
BEGIN:VEVENT
DTSTART;TZID=America/New_York:20141204T040000
DTEND;TZID=America/New_York:20141204T190000
DTSTAMP:20260426T001419
CREATED:20141123T233746Z
LAST-MODIFIED:20141124T003655Z
UID:4271-1417665600-1417719600@www.mansfieldnordic.org
SUMMARY:MNC Toko Wax Clinic
DESCRIPTION:TAKE THE MYSTERY OUT OF SKI PREP!!!\nMNC Hands-on Wax Clinic \n \nWhere: Walker Building at Ethan Allen Training Center \nBring A pair of skis and learn form TOKO rep Dave Boucher and the MNC coaches.  \nWe will have a few benches and wax tools for you to use \nBut please bring your own wax\nGlide and kick waxing will be covered \nTwo Sessions:\n4:00 – for BK\, JRS and Parents \n6:00 – for Masters
URL:https://www.mansfieldnordic.org/event/mnc-toko-wax-clinic/
LOCATION:Ethan Allen Training Facility\, 113 Ethan Allen Rd.\, Jericho\, VT\, 05465\, United States
CATEGORIES:BKL,Calendar,Juniors,Masters
END:VEVENT
BEGIN:VEVENT
DTSTART;TZID=America/New_York:20141202T153000
DTEND;TZID=America/New_York:20141202T193000
DTSTAMP:20260426T001419
CREATED:20141103T005102Z
LAST-MODIFIED:20141125T230002Z
UID:4176-1417534200-1417548600@www.mansfieldnordic.org
SUMMARY:Start of Winter Programs
DESCRIPTION:Our BKL\, Juniors & Masters all start official training.  See the blog and training schedules for locations and times.
URL:https://www.mansfieldnordic.org/event/start-of-winter-programs/
LOCATION:Ethan Allen Training Facility\, 113 Ethan Allen Rd.\, Jericho\, VT\, 05465\, United States
CATEGORIES:BKL,Calendar,Juniors,Masters
END:VEVENT
BEGIN:VEVENT
DTSTART;VALUE=DATE:20141130
DTEND;VALUE=DATE:20141201
DTSTAMP:20260426T001419
CREATED:20141121T120542Z
LAST-MODIFIED:20141121T120542Z
UID:4241-1417305600-1417391999@www.mansfieldnordic.org
SUMMARY:Last Day for Race Suit Purchase/Lease (Youth & Adult)
DESCRIPTION:This is you last chance to get a new youth or adult race suit for the season.   For more information see our BKL Lease/Buy Back  & Apparel links.
URL:https://www.mansfieldnordic.org/event/last-day-for-race-suit-purchaselease-youth-adult/
CATEGORIES:BKL,Calendar,Juniors,Masters
END:VEVENT
BEGIN:VEVENT
DTSTART;VALUE=DATE:20141124
DTEND;VALUE=DATE:20141125
DTSTAMP:20260426T001419
CREATED:20141103T005641Z
LAST-MODIFIED:20141123T011028Z
UID:4177-1416787200-1416873599@www.mansfieldnordic.org
SUMMARY:Last Day to Order Team Mammut Jackets & Vests
DESCRIPTION:See our Apparel page for details.
URL:https://www.mansfieldnordic.org/event/last-day-to-order-team-mammut-jackets-vest/
CATEGORIES:Calendar,Juniors,Masters
END:VEVENT
BEGIN:VEVENT
DTSTART;TZID=America/New_York:20141115T140000
DTEND;TZID=America/New_York:20141115T150000
DTSTAMP:20260426T001419
CREATED:20141113T014541Z
LAST-MODIFIED:20141113T014541Z
UID:4199-1416060000-1416063600@www.mansfieldnordic.org
SUMMARY:Skirack and Swix Cera Nova X Speed Tour
DESCRIPTION:Join Chris Hall from Swix for an educational afternoon learning about the newly formulated Swix Cera Nova X wax system. \nSee an in-depth presentation on the development and improvements of this new wax line. \nDoor Prizes Including: \nCERA NOVA X PINT GLASSES \nCERA NOVA X BOTTLE OPENERS \nCERA NOVA X LF 180G WAX BARS
URL:https://www.mansfieldnordic.org/event/skirack-and-swix-cera-nova-x-speed-tour/
LOCATION:Skirack\, 85 Main Street\, Burlington\, VT\, 05401\, United States
CATEGORIES:BKL,Calendar,Juniors,Masters
END:VEVENT
END:VCALENDAR