BEGIN:VCALENDAR
VERSION:2.0
PRODID:-//Mansfield Nordic Club - ECPv6.15.13//NONSGML v1.0//EN
CALSCALE:GREGORIAN
METHOD:PUBLISH
X-WR-CALNAME:Mansfield Nordic Club
X-ORIGINAL-URL:https://www.mansfieldnordic.org
X-WR-CALDESC:Events for Mansfield Nordic Club
REFRESH-INTERVAL;VALUE=DURATION:PT1H
X-Robots-Tag:noindex
X-PUBLISHED-TTL:PT1H
BEGIN:VTIMEZONE
TZID:America/New_York
BEGIN:DAYLIGHT
TZOFFSETFROM:-0500
TZOFFSETTO:-0400
TZNAME:EDT
DTSTART:20250309T070000
END:DAYLIGHT
BEGIN:STANDARD
TZOFFSETFROM:-0400
TZOFFSETTO:-0500
TZNAME:EST
DTSTART:20251102T060000
END:STANDARD
BEGIN:DAYLIGHT
TZOFFSETFROM:-0500
TZOFFSETTO:-0400
TZNAME:EDT
DTSTART:20260308T070000
END:DAYLIGHT
BEGIN:STANDARD
TZOFFSETFROM:-0400
TZOFFSETTO:-0500
TZNAME:EST
DTSTART:20261101T060000
END:STANDARD
BEGIN:DAYLIGHT
TZOFFSETFROM:-0500
TZOFFSETTO:-0400
TZNAME:EDT
DTSTART:20270314T070000
END:DAYLIGHT
BEGIN:STANDARD
TZOFFSETFROM:-0400
TZOFFSETTO:-0500
TZNAME:EST
DTSTART:20271107T060000
END:STANDARD
END:VTIMEZONE
BEGIN:VEVENT
DTSTART;TZID=America/New_York:20260310T151500
DTEND;TZID=America/New_York:20260310T170000
DTSTAMP:20260425T092019
CREATED:20260209T164104Z
LAST-MODIFIED:20260309T195750Z
UID:21392-1773155700-1773162000@www.mansfieldnordic.org
SUMMARY:BKL Penguins Group Tentative Last Day and Awards
DESCRIPTION:It’s confirmed! This is going to be our last day – Celebration and Awards\nWe are going to end early at 5:00pm \nOur last day can be a bit of a moving target with weather and snow conditions. We expect this to be our last day and awards for Penguins.\nBKL Practice Schedule – Weekly Info
URL:https://www.mansfieldnordic.org/event/bkl-penguins-group-tentative-last-day-and-awards-2/
CATEGORIES:BKL,Calendar
END:VEVENT
BEGIN:VEVENT
DTSTART;TZID=America/New_York:20260310T151500
DTEND;TZID=America/New_York:20260310T170000
DTSTAMP:20260425T092019
CREATED:20260209T164439Z
LAST-MODIFIED:20260311T171153Z
UID:21394-1773155700-1773162000@www.mansfieldnordic.org
SUMMARY:BKL Last Day and Awards for JackRabbits\, Arctic Foxes\, Racers & Devos
DESCRIPTION:It’s confirmed! Tuesday\, March 10th is going to be our last day – Celebration and Awards\nWe are going to end early at 5:00pm \nOur last day can be a bit of a moving target depending on snow conditions\, but this is the day we plan to be our last practice and awards. \nBKL Practice Schedule – Weekly Info
URL:https://www.mansfieldnordic.org/event/bkl-last-day-and-awards-for-jackrabbits-arctic-foxes-racers-devos-2/
CATEGORIES:BKL,Calendar
END:VEVENT
END:VCALENDAR