BEGIN:VCALENDAR
VERSION:2.0
PRODID:-//Mansfield Nordic Club - ECPv6.15.13//NONSGML v1.0//EN
CALSCALE:GREGORIAN
METHOD:PUBLISH
X-WR-CALNAME:Mansfield Nordic Club
X-ORIGINAL-URL:https://www.mansfieldnordic.org
X-WR-CALDESC:Events for Mansfield Nordic Club
REFRESH-INTERVAL;VALUE=DURATION:PT1H
X-Robots-Tag:noindex
X-PUBLISHED-TTL:PT1H
BEGIN:VTIMEZONE
TZID:America/New_York
BEGIN:DAYLIGHT
TZOFFSETFROM:-0500
TZOFFSETTO:-0400
TZNAME:EDT
DTSTART:20250309T070000
END:DAYLIGHT
BEGIN:STANDARD
TZOFFSETFROM:-0400
TZOFFSETTO:-0500
TZNAME:EST
DTSTART:20251102T060000
END:STANDARD
BEGIN:DAYLIGHT
TZOFFSETFROM:-0500
TZOFFSETTO:-0400
TZNAME:EDT
DTSTART:20260308T070000
END:DAYLIGHT
BEGIN:STANDARD
TZOFFSETFROM:-0400
TZOFFSETTO:-0500
TZNAME:EST
DTSTART:20261101T060000
END:STANDARD
BEGIN:DAYLIGHT
TZOFFSETFROM:-0500
TZOFFSETTO:-0400
TZNAME:EDT
DTSTART:20270314T070000
END:DAYLIGHT
BEGIN:STANDARD
TZOFFSETFROM:-0400
TZOFFSETTO:-0500
TZNAME:EST
DTSTART:20271107T060000
END:STANDARD
END:VTIMEZONE
BEGIN:VEVENT
DTSTART;TZID=America/New_York:20260411T153000
DTEND;TZID=America/New_York:20260411T183000
DTSTAMP:20260425T061646
CREATED:20260331T133212Z
LAST-MODIFIED:20260331T133212Z
UID:21482-1775921400-1775932200@www.mansfieldnordic.org
SUMMARY:End-Of-Season Potluck Party @ Sleepy
DESCRIPTION:Join us at Sleepy Hollow’s round barn for an end-of-season potluck! We will have an option for a out-and-back group run (trails if dry\, road if not) followed by a shared meal with club members and friends. \nKids are encouraged to come\, along with all our Masters\, Juniors\, and Pro athletes. \nRSVP for the event below\, where you’ll also find a potluck signup sheet! \nEnd-Of-Season Party 2026
URL:https://www.mansfieldnordic.org/event/end-of-season-potluck-party-sleepy/
CATEGORIES:BKL,Calendar,Juniors,Masters
END:VEVENT
END:VCALENDAR