BEGIN:VCALENDAR
VERSION:2.0
PRODID:-//Mansfield Nordic Club - ECPv6.15.13//NONSGML v1.0//EN
CALSCALE:GREGORIAN
METHOD:PUBLISH
X-WR-CALNAME:Mansfield Nordic Club
X-ORIGINAL-URL:https://www.mansfieldnordic.org
X-WR-CALDESC:Events for Mansfield Nordic Club
REFRESH-INTERVAL;VALUE=DURATION:PT1H
X-Robots-Tag:noindex
X-PUBLISHED-TTL:PT1H
BEGIN:VTIMEZONE
TZID:America/New_York
BEGIN:DAYLIGHT
TZOFFSETFROM:-0500
TZOFFSETTO:-0400
TZNAME:EDT
DTSTART:20250309T070000
END:DAYLIGHT
BEGIN:STANDARD
TZOFFSETFROM:-0400
TZOFFSETTO:-0500
TZNAME:EST
DTSTART:20251102T060000
END:STANDARD
BEGIN:DAYLIGHT
TZOFFSETFROM:-0500
TZOFFSETTO:-0400
TZNAME:EDT
DTSTART:20260308T070000
END:DAYLIGHT
BEGIN:STANDARD
TZOFFSETFROM:-0400
TZOFFSETTO:-0500
TZNAME:EST
DTSTART:20261101T060000
END:STANDARD
BEGIN:DAYLIGHT
TZOFFSETFROM:-0500
TZOFFSETTO:-0400
TZNAME:EDT
DTSTART:20270314T070000
END:DAYLIGHT
BEGIN:STANDARD
TZOFFSETFROM:-0400
TZOFFSETTO:-0500
TZNAME:EST
DTSTART:20271107T060000
END:STANDARD
END:VTIMEZONE
BEGIN:VEVENT
DTSTART;TZID=America/New_York:20260222T090000
DTEND;TZID=America/New_York:20260222T140000
DTSTAMP:20260425T122848
CREATED:20251105T163735Z
LAST-MODIFIED:20260121T193845Z
UID:21171-1771750800-1771768800@www.mansfieldnordic.org
SUMMARY:MNC Skiathlon
DESCRIPTION:Classic/Freestyle Skiathlon: Skiers switch from classic to freestyle skis mid-race. The Skiathlon is our MNC home race and proceeds go to the MNC Scholarship Fund. \nRegistration and Details \nSchedule of the Day\n9:00-10:00am & 11:00-1:30pm Registration and bib pick-up in the Round Barn\,\n10:00 MEN’s race Men U16 and older (6km classic + 6km freestyle).\n10:03 WOMEN’s race Women U16 and older (6km classic + 6km freestyle).\n12:00 Age-Class Podiums\n11:45 BKL races \nRegistration Details\nOnline Registration Deadline: Saturday\, February 21\, 2026 at 5:00 PM ET\nDOR Registration: Adults ($50)\, U20 + WTH ($30)\, BKL ($20)\, BKL Lollipop Free   Cash\, check\, or Venmo preferred. \nPlease note that we are not holding a “What the Heck\, I’ll Try It” race this year. \nBKL Race Info\nBKL Races start at 11:45\n11:45 Lollipop (~0.3km classic only)\n12:00 Grades 1/2 (1km classic only)\n12:15 Grades 3/4 (1km classic + 1km freestyle)\n12:35 Grades 5/6 (1.5km classic + 1.5km freestyle)\n1:00 Grades 7/8 (2km classic + 2km freestyle) \nLots more race info and details over in the Notes Section on SkiReg.com \nRace Director: Christine Massey\, christine.massey@uvm.edu
URL:https://www.mansfieldnordic.org/event/mnc-skiathlon-6/
LOCATION:Sleepy Hollow Inn & Ski Center\, 427 Ski Lodge Dr\, Huntington\, VT\, 05462\, United States
CATEGORIES:BKL,Calendar,Juniors,Masters
END:VEVENT
END:VCALENDAR